BEGIN:VCALENDAR
VERSION:2.0
PRODID:-//Hilary Blaha Real Estate Team - ECPv6.15.20//NONSGML v1.0//EN
CALSCALE:GREGORIAN
METHOD:PUBLISH
X-ORIGINAL-URL:https://hilaryblaha.com
X-WR-CALDESC:Events for Hilary Blaha Real Estate Team
REFRESH-INTERVAL;VALUE=DURATION:PT1H
X-Robots-Tag:noindex
X-PUBLISHED-TTL:PT1H
BEGIN:VTIMEZONE
TZID:America/Los_Angeles
BEGIN:DAYLIGHT
TZOFFSETFROM:-0800
TZOFFSETTO:-0700
TZNAME:PDT
DTSTART:20270314T100000
END:DAYLIGHT
BEGIN:STANDARD
TZOFFSETFROM:-0700
TZOFFSETTO:-0800
TZNAME:PST
DTSTART:20271107T090000
END:STANDARD
BEGIN:DAYLIGHT
TZOFFSETFROM:-0800
TZOFFSETTO:-0700
TZNAME:PDT
DTSTART:20280312T100000
END:DAYLIGHT
BEGIN:STANDARD
TZOFFSETFROM:-0700
TZOFFSETTO:-0800
TZNAME:PST
DTSTART:20281105T090000
END:STANDARD
BEGIN:DAYLIGHT
TZOFFSETFROM:-0800
TZOFFSETTO:-0700
TZNAME:PDT
DTSTART:20290311T100000
END:DAYLIGHT
BEGIN:STANDARD
TZOFFSETFROM:-0700
TZOFFSETTO:-0800
TZNAME:PST
DTSTART:20291104T090000
END:STANDARD
END:VTIMEZONE
BEGIN:VEVENT
DTSTART;TZID=America/Los_Angeles:20280226T190000
DTEND;TZID=America/Los_Angeles:20280226T220000
DTSTAMP:20260420T203529
CREATED:20260202T050547Z
LAST-MODIFIED:20260303T012927Z
UID:10008592-1835204400-1835215200@hilaryblaha.com
SUMMARY:Karaoke Saturdays
DESCRIPTION:The Pizza Place 7-10pm\, Family Friendly every Saturday. View Flyer
URL:https://hilaryblaha.com/event/karaoke-saturdays/2028-02-26/
LOCATION:Pizza Place\, 3942 Sierra Hwy #3\, Acton\, CA\, 93510\, United States
ATTACH;FMTTYPE=image/jpeg:https://hilaryblaha.com/wp-content/uploads/2026/02/02.07-KareokePizzaPlace.jpg
END:VEVENT
BEGIN:VEVENT
DTSTART;TZID=America/Los_Angeles:20280227T093000
DTEND;TZID=America/Los_Angeles:20280227T110000
DTSTAMP:20260420T203529
CREATED:20251104T235956Z
LAST-MODIFIED:20260303T152932Z
UID:10005294-1835256600-1835262000@hilaryblaha.com
SUMMARY:Gentle Yoga @The Clubhouse
DESCRIPTION:  \nCome join us for a gentle yoga class\, no experience necessary \nSign in at 9:30\, class starts at 10 AM Learn More \n(No class 3/1 or 3/22) \n 
URL:https://hilaryblaha.com/event/gentle-yoga-3-2-2-2-2/2028-02-27/
LOCATION:Agua Dulce Women’s Club\, 33201 Agua Dulce Canyon Road\, Agua Dulce\, CA\, United States
CATEGORIES:Agua Dulce Women’s Club
ATTACH;FMTTYPE=image/jpeg:https://hilaryblaha.com/wp-content/uploads/2023/05/gentle-yoga-2023jpg-768x768-1.jpg
END:VEVENT
BEGIN:VEVENT
DTSTART;TZID=America/Los_Angeles:20280229T100000
DTEND;TZID=America/Los_Angeles:20280229T120000
DTSTAMP:20260420T203529
CREATED:20251231T014605Z
LAST-MODIFIED:20260202T184423Z
UID:10008860-1835431200-1835438400@hilaryblaha.com
SUMMARY:Acton Women’s Club Resale Shoppe – Donation Tuesdays!
DESCRIPTION:We need your donations – Home Decor\, Art\, Clothing\, Furniture\, Toys & More. Tuesdays from 10am – 12pm\, Drop off location: 33345 Santiago Road\, Acton. Thank you for your generosity! Supporting our community one donation at a time. Learn More
URL:https://hilaryblaha.com/event/resale-shoppe-needs-your-donations/2028-02-29/
LOCATION:Resale Shoppe\, 33333 Santiago Road\, Acton\, CA\, 93510\, United States
ATTACH;FMTTYPE=image/png:https://hilaryblaha.com/wp-content/uploads/2025/12/donationtuesday_orig.png
END:VEVENT
BEGIN:VEVENT
DTSTART;TZID=America/Los_Angeles:20280304T080000
DTEND;TZID=America/Los_Angeles:20280304T090000
DTSTAMP:20260420T203529
CREATED:20251231T015946Z
LAST-MODIFIED:20260202T184617Z
UID:10009121-1835769600-1835773200@hilaryblaha.com
SUMMARY:Men’s Bible Study
DESCRIPTION:Wayne Wilson as we walk through the study of 1st Corinthians. Found in the New Testament\, the letter is written by the apostle Paul to the church in Corinth\, a city in ancient Greece. In this letter\, Paul addresses various issues and concerns within the Corinthian church\, including divisions among the believers\, immorality\, lawsuits among believers\, marriage and singleness\, spiritual gifts\, and the resurrection of the dead. Throughout the letter\, Paul emphasizes the importance of unity\, love\, and living according to the teachings of Jesus Christ. He encourages the Corinthians to live holy and righteous lives\, to use their spiritual gifts for the common good\, and to remain steadfast in their faith despite challenges and opposition. The overarching theme of 1 Corinthians is the call for believers to live in harmony with one another and to reflect the love and character of Christ in all aspects of their lives. Questions? Call Pastor Wayne Wilson at 661-269-3609  Learn More
URL:https://hilaryblaha.com/event/mens-bible-study/2028-03-04/
LOCATION:Acton Faith Bible Church
ATTACH;FMTTYPE=image/png:https://hilaryblaha.com/wp-content/uploads/2025/12/01.01-bible-and-coffee.png
END:VEVENT
BEGIN:VEVENT
DTSTART;TZID=America/Los_Angeles:20280304T190000
DTEND;TZID=America/Los_Angeles:20280304T220000
DTSTAMP:20260420T203529
CREATED:20260202T050547Z
LAST-MODIFIED:20260303T012927Z
UID:10008593-1835809200-1835820000@hilaryblaha.com
SUMMARY:Karaoke Saturdays
DESCRIPTION:The Pizza Place 7-10pm\, Family Friendly every Saturday. View Flyer
URL:https://hilaryblaha.com/event/karaoke-saturdays/2028-03-04/
LOCATION:Pizza Place\, 3942 Sierra Hwy #3\, Acton\, CA\, 93510\, United States
ATTACH;FMTTYPE=image/jpeg:https://hilaryblaha.com/wp-content/uploads/2026/02/02.07-KareokePizzaPlace.jpg
END:VEVENT
BEGIN:VEVENT
DTSTART;TZID=America/Los_Angeles:20280305T093000
DTEND;TZID=America/Los_Angeles:20280305T110000
DTSTAMP:20260420T203529
CREATED:20251104T235956Z
LAST-MODIFIED:20260303T152932Z
UID:10005295-1835861400-1835866800@hilaryblaha.com
SUMMARY:Gentle Yoga @The Clubhouse
DESCRIPTION:  \nCome join us for a gentle yoga class\, no experience necessary \nSign in at 9:30\, class starts at 10 AM Learn More \n(No class 3/1 or 3/22) \n 
URL:https://hilaryblaha.com/event/gentle-yoga-3-2-2-2-2/2028-03-05/
LOCATION:Agua Dulce Women’s Club\, 33201 Agua Dulce Canyon Road\, Agua Dulce\, CA\, United States
CATEGORIES:Agua Dulce Women’s Club
ATTACH;FMTTYPE=image/jpeg:https://hilaryblaha.com/wp-content/uploads/2023/05/gentle-yoga-2023jpg-768x768-1.jpg
END:VEVENT
BEGIN:VEVENT
DTSTART;TZID=America/Los_Angeles:20280306T130000
DTEND;TZID=America/Los_Angeles:20280306T150000
DTSTAMP:20260420T203529
CREATED:20260402T034908Z
LAST-MODIFIED:20260402T034913Z
UID:10009350-1835960400-1835967600@hilaryblaha.com
SUMMARY:Agua Dulce Acton Senior Citizens Club
DESCRIPTION:Agua Dulce Winery 1p\, First Wednesday of the month Learn More
URL:https://hilaryblaha.com/event/aad-senior-citizens-club-monthly-meet-up-2/2028-03-06/
LOCATION:Agua Dulce Winery
ATTACH;FMTTYPE=image/jpeg:https://hilaryblaha.com/wp-content/uploads/2024/08/Agua-Dulce-Acton-Senior-Citizens-Club-new-logo-JPG-scaled-e1725053928444.jpg
END:VEVENT
BEGIN:VEVENT
DTSTART;TZID=America/Los_Angeles:20280307T100000
DTEND;TZID=America/Los_Angeles:20280307T120000
DTSTAMP:20260420T203529
CREATED:20251231T014605Z
LAST-MODIFIED:20260202T184423Z
UID:10008861-1836036000-1836043200@hilaryblaha.com
SUMMARY:Acton Women’s Club Resale Shoppe – Donation Tuesdays!
DESCRIPTION:We need your donations – Home Decor\, Art\, Clothing\, Furniture\, Toys & More. Tuesdays from 10am – 12pm\, Drop off location: 33345 Santiago Road\, Acton. Thank you for your generosity! Supporting our community one donation at a time. Learn More
URL:https://hilaryblaha.com/event/resale-shoppe-needs-your-donations/2028-03-07/
LOCATION:Resale Shoppe\, 33333 Santiago Road\, Acton\, CA\, 93510\, United States
ATTACH;FMTTYPE=image/png:https://hilaryblaha.com/wp-content/uploads/2025/12/donationtuesday_orig.png
END:VEVENT
BEGIN:VEVENT
DTSTART;TZID=America/Los_Angeles:20280311T080000
DTEND;TZID=America/Los_Angeles:20280311T090000
DTSTAMP:20260420T203529
CREATED:20251231T015946Z
LAST-MODIFIED:20260202T184617Z
UID:10009122-1836374400-1836378000@hilaryblaha.com
SUMMARY:Men’s Bible Study
DESCRIPTION:Wayne Wilson as we walk through the study of 1st Corinthians. Found in the New Testament\, the letter is written by the apostle Paul to the church in Corinth\, a city in ancient Greece. In this letter\, Paul addresses various issues and concerns within the Corinthian church\, including divisions among the believers\, immorality\, lawsuits among believers\, marriage and singleness\, spiritual gifts\, and the resurrection of the dead. Throughout the letter\, Paul emphasizes the importance of unity\, love\, and living according to the teachings of Jesus Christ. He encourages the Corinthians to live holy and righteous lives\, to use their spiritual gifts for the common good\, and to remain steadfast in their faith despite challenges and opposition. The overarching theme of 1 Corinthians is the call for believers to live in harmony with one another and to reflect the love and character of Christ in all aspects of their lives. Questions? Call Pastor Wayne Wilson at 661-269-3609  Learn More
URL:https://hilaryblaha.com/event/mens-bible-study/2028-03-11/
LOCATION:Acton Faith Bible Church
ATTACH;FMTTYPE=image/png:https://hilaryblaha.com/wp-content/uploads/2025/12/01.01-bible-and-coffee.png
END:VEVENT
BEGIN:VEVENT
DTSTART;TZID=America/Los_Angeles:20280311T190000
DTEND;TZID=America/Los_Angeles:20280311T220000
DTSTAMP:20260420T203529
CREATED:20260202T050547Z
LAST-MODIFIED:20260303T012927Z
UID:10008594-1836414000-1836424800@hilaryblaha.com
SUMMARY:Karaoke Saturdays
DESCRIPTION:The Pizza Place 7-10pm\, Family Friendly every Saturday. View Flyer
URL:https://hilaryblaha.com/event/karaoke-saturdays/2028-03-11/
LOCATION:Pizza Place\, 3942 Sierra Hwy #3\, Acton\, CA\, 93510\, United States
ATTACH;FMTTYPE=image/jpeg:https://hilaryblaha.com/wp-content/uploads/2026/02/02.07-KareokePizzaPlace.jpg
END:VEVENT
BEGIN:VEVENT
DTSTART;TZID=America/Los_Angeles:20280312T093000
DTEND;TZID=America/Los_Angeles:20280312T110000
DTSTAMP:20260420T203529
CREATED:20251104T235956Z
LAST-MODIFIED:20260303T152932Z
UID:10005296-1836466200-1836471600@hilaryblaha.com
SUMMARY:Gentle Yoga @The Clubhouse
DESCRIPTION:  \nCome join us for a gentle yoga class\, no experience necessary \nSign in at 9:30\, class starts at 10 AM Learn More \n(No class 3/1 or 3/22) \n 
URL:https://hilaryblaha.com/event/gentle-yoga-3-2-2-2-2/2028-03-12/
LOCATION:Agua Dulce Women’s Club\, 33201 Agua Dulce Canyon Road\, Agua Dulce\, CA\, United States
CATEGORIES:Agua Dulce Women’s Club
ATTACH;FMTTYPE=image/jpeg:https://hilaryblaha.com/wp-content/uploads/2023/05/gentle-yoga-2023jpg-768x768-1.jpg
END:VEVENT
BEGIN:VEVENT
DTSTART;TZID=America/Los_Angeles:20280314T100000
DTEND;TZID=America/Los_Angeles:20280314T120000
DTSTAMP:20260420T203529
CREATED:20251231T014605Z
LAST-MODIFIED:20260202T184423Z
UID:10008862-1836640800-1836648000@hilaryblaha.com
SUMMARY:Acton Women’s Club Resale Shoppe – Donation Tuesdays!
DESCRIPTION:We need your donations – Home Decor\, Art\, Clothing\, Furniture\, Toys & More. Tuesdays from 10am – 12pm\, Drop off location: 33345 Santiago Road\, Acton. Thank you for your generosity! Supporting our community one donation at a time. Learn More
URL:https://hilaryblaha.com/event/resale-shoppe-needs-your-donations/2028-03-14/
LOCATION:Resale Shoppe\, 33333 Santiago Road\, Acton\, CA\, 93510\, United States
ATTACH;FMTTYPE=image/png:https://hilaryblaha.com/wp-content/uploads/2025/12/donationtuesday_orig.png
END:VEVENT
BEGIN:VEVENT
DTSTART;TZID=America/Los_Angeles:20280318T080000
DTEND;TZID=America/Los_Angeles:20280318T090000
DTSTAMP:20260420T203529
CREATED:20251231T015946Z
LAST-MODIFIED:20260202T184617Z
UID:10009123-1836979200-1836982800@hilaryblaha.com
SUMMARY:Men’s Bible Study
DESCRIPTION:Wayne Wilson as we walk through the study of 1st Corinthians. Found in the New Testament\, the letter is written by the apostle Paul to the church in Corinth\, a city in ancient Greece. In this letter\, Paul addresses various issues and concerns within the Corinthian church\, including divisions among the believers\, immorality\, lawsuits among believers\, marriage and singleness\, spiritual gifts\, and the resurrection of the dead. Throughout the letter\, Paul emphasizes the importance of unity\, love\, and living according to the teachings of Jesus Christ. He encourages the Corinthians to live holy and righteous lives\, to use their spiritual gifts for the common good\, and to remain steadfast in their faith despite challenges and opposition. The overarching theme of 1 Corinthians is the call for believers to live in harmony with one another and to reflect the love and character of Christ in all aspects of their lives. Questions? Call Pastor Wayne Wilson at 661-269-3609  Learn More
URL:https://hilaryblaha.com/event/mens-bible-study/2028-03-18/
LOCATION:Acton Faith Bible Church
ATTACH;FMTTYPE=image/png:https://hilaryblaha.com/wp-content/uploads/2025/12/01.01-bible-and-coffee.png
END:VEVENT
BEGIN:VEVENT
DTSTART;TZID=America/Los_Angeles:20280318T190000
DTEND;TZID=America/Los_Angeles:20280318T220000
DTSTAMP:20260420T203529
CREATED:20260202T050547Z
LAST-MODIFIED:20260303T012927Z
UID:10008595-1837018800-1837029600@hilaryblaha.com
SUMMARY:Karaoke Saturdays
DESCRIPTION:The Pizza Place 7-10pm\, Family Friendly every Saturday. View Flyer
URL:https://hilaryblaha.com/event/karaoke-saturdays/2028-03-18/
LOCATION:Pizza Place\, 3942 Sierra Hwy #3\, Acton\, CA\, 93510\, United States
ATTACH;FMTTYPE=image/jpeg:https://hilaryblaha.com/wp-content/uploads/2026/02/02.07-KareokePizzaPlace.jpg
END:VEVENT
BEGIN:VEVENT
DTSTART;TZID=America/Los_Angeles:20280319T093000
DTEND;TZID=America/Los_Angeles:20280319T110000
DTSTAMP:20260420T203529
CREATED:20251104T235956Z
LAST-MODIFIED:20260303T152932Z
UID:10005297-1837071000-1837076400@hilaryblaha.com
SUMMARY:Gentle Yoga @The Clubhouse
DESCRIPTION:  \nCome join us for a gentle yoga class\, no experience necessary \nSign in at 9:30\, class starts at 10 AM Learn More \n(No class 3/1 or 3/22) \n 
URL:https://hilaryblaha.com/event/gentle-yoga-3-2-2-2-2/2028-03-19/
LOCATION:Agua Dulce Women’s Club\, 33201 Agua Dulce Canyon Road\, Agua Dulce\, CA\, United States
CATEGORIES:Agua Dulce Women’s Club
ATTACH;FMTTYPE=image/jpeg:https://hilaryblaha.com/wp-content/uploads/2023/05/gentle-yoga-2023jpg-768x768-1.jpg
END:VEVENT
BEGIN:VEVENT
DTSTART;TZID=America/Los_Angeles:20280321T100000
DTEND;TZID=America/Los_Angeles:20280321T120000
DTSTAMP:20260420T203529
CREATED:20251231T014605Z
LAST-MODIFIED:20260202T184423Z
UID:10008863-1837245600-1837252800@hilaryblaha.com
SUMMARY:Acton Women’s Club Resale Shoppe – Donation Tuesdays!
DESCRIPTION:We need your donations – Home Decor\, Art\, Clothing\, Furniture\, Toys & More. Tuesdays from 10am – 12pm\, Drop off location: 33345 Santiago Road\, Acton. Thank you for your generosity! Supporting our community one donation at a time. Learn More
URL:https://hilaryblaha.com/event/resale-shoppe-needs-your-donations/2028-03-21/
LOCATION:Resale Shoppe\, 33333 Santiago Road\, Acton\, CA\, 93510\, United States
ATTACH;FMTTYPE=image/png:https://hilaryblaha.com/wp-content/uploads/2025/12/donationtuesday_orig.png
END:VEVENT
BEGIN:VEVENT
DTSTART;TZID=America/Los_Angeles:20280325T080000
DTEND;TZID=America/Los_Angeles:20280325T090000
DTSTAMP:20260420T203529
CREATED:20251231T015946Z
LAST-MODIFIED:20260202T184617Z
UID:10009124-1837584000-1837587600@hilaryblaha.com
SUMMARY:Men’s Bible Study
DESCRIPTION:Wayne Wilson as we walk through the study of 1st Corinthians. Found in the New Testament\, the letter is written by the apostle Paul to the church in Corinth\, a city in ancient Greece. In this letter\, Paul addresses various issues and concerns within the Corinthian church\, including divisions among the believers\, immorality\, lawsuits among believers\, marriage and singleness\, spiritual gifts\, and the resurrection of the dead. Throughout the letter\, Paul emphasizes the importance of unity\, love\, and living according to the teachings of Jesus Christ. He encourages the Corinthians to live holy and righteous lives\, to use their spiritual gifts for the common good\, and to remain steadfast in their faith despite challenges and opposition. The overarching theme of 1 Corinthians is the call for believers to live in harmony with one another and to reflect the love and character of Christ in all aspects of their lives. Questions? Call Pastor Wayne Wilson at 661-269-3609  Learn More
URL:https://hilaryblaha.com/event/mens-bible-study/2028-03-25/
LOCATION:Acton Faith Bible Church
ATTACH;FMTTYPE=image/png:https://hilaryblaha.com/wp-content/uploads/2025/12/01.01-bible-and-coffee.png
END:VEVENT
BEGIN:VEVENT
DTSTART;TZID=America/Los_Angeles:20280325T190000
DTEND;TZID=America/Los_Angeles:20280325T220000
DTSTAMP:20260420T203529
CREATED:20260202T050547Z
LAST-MODIFIED:20260303T012927Z
UID:10008596-1837623600-1837634400@hilaryblaha.com
SUMMARY:Karaoke Saturdays
DESCRIPTION:The Pizza Place 7-10pm\, Family Friendly every Saturday. View Flyer
URL:https://hilaryblaha.com/event/karaoke-saturdays/2028-03-25/
LOCATION:Pizza Place\, 3942 Sierra Hwy #3\, Acton\, CA\, 93510\, United States
ATTACH;FMTTYPE=image/jpeg:https://hilaryblaha.com/wp-content/uploads/2026/02/02.07-KareokePizzaPlace.jpg
END:VEVENT
BEGIN:VEVENT
DTSTART;TZID=America/Los_Angeles:20280326T093000
DTEND;TZID=America/Los_Angeles:20280326T110000
DTSTAMP:20260420T203529
CREATED:20251104T235956Z
LAST-MODIFIED:20260303T152932Z
UID:10005298-1837675800-1837681200@hilaryblaha.com
SUMMARY:Gentle Yoga @The Clubhouse
DESCRIPTION:  \nCome join us for a gentle yoga class\, no experience necessary \nSign in at 9:30\, class starts at 10 AM Learn More \n(No class 3/1 or 3/22) \n 
URL:https://hilaryblaha.com/event/gentle-yoga-3-2-2-2-2/2028-03-26/
LOCATION:Agua Dulce Women’s Club\, 33201 Agua Dulce Canyon Road\, Agua Dulce\, CA\, United States
CATEGORIES:Agua Dulce Women’s Club
ATTACH;FMTTYPE=image/jpeg:https://hilaryblaha.com/wp-content/uploads/2023/05/gentle-yoga-2023jpg-768x768-1.jpg
END:VEVENT
BEGIN:VEVENT
DTSTART;TZID=America/Los_Angeles:20280328T100000
DTEND;TZID=America/Los_Angeles:20280328T120000
DTSTAMP:20260420T203529
CREATED:20251231T014605Z
LAST-MODIFIED:20260202T184423Z
UID:10008864-1837850400-1837857600@hilaryblaha.com
SUMMARY:Acton Women’s Club Resale Shoppe – Donation Tuesdays!
DESCRIPTION:We need your donations – Home Decor\, Art\, Clothing\, Furniture\, Toys & More. Tuesdays from 10am – 12pm\, Drop off location: 33345 Santiago Road\, Acton. Thank you for your generosity! Supporting our community one donation at a time. Learn More
URL:https://hilaryblaha.com/event/resale-shoppe-needs-your-donations/2028-03-28/
LOCATION:Resale Shoppe\, 33333 Santiago Road\, Acton\, CA\, 93510\, United States
ATTACH;FMTTYPE=image/png:https://hilaryblaha.com/wp-content/uploads/2025/12/donationtuesday_orig.png
END:VEVENT
BEGIN:VEVENT
DTSTART;TZID=America/Los_Angeles:20280401T080000
DTEND;TZID=America/Los_Angeles:20280401T090000
DTSTAMP:20260420T203529
CREATED:20251231T015946Z
LAST-MODIFIED:20260202T184617Z
UID:10009125-1838188800-1838192400@hilaryblaha.com
SUMMARY:Men’s Bible Study
DESCRIPTION:Wayne Wilson as we walk through the study of 1st Corinthians. Found in the New Testament\, the letter is written by the apostle Paul to the church in Corinth\, a city in ancient Greece. In this letter\, Paul addresses various issues and concerns within the Corinthian church\, including divisions among the believers\, immorality\, lawsuits among believers\, marriage and singleness\, spiritual gifts\, and the resurrection of the dead. Throughout the letter\, Paul emphasizes the importance of unity\, love\, and living according to the teachings of Jesus Christ. He encourages the Corinthians to live holy and righteous lives\, to use their spiritual gifts for the common good\, and to remain steadfast in their faith despite challenges and opposition. The overarching theme of 1 Corinthians is the call for believers to live in harmony with one another and to reflect the love and character of Christ in all aspects of their lives. Questions? Call Pastor Wayne Wilson at 661-269-3609  Learn More
URL:https://hilaryblaha.com/event/mens-bible-study/2028-04-01/
LOCATION:Acton Faith Bible Church
ATTACH;FMTTYPE=image/png:https://hilaryblaha.com/wp-content/uploads/2025/12/01.01-bible-and-coffee.png
END:VEVENT
BEGIN:VEVENT
DTSTART;TZID=America/Los_Angeles:20280401T190000
DTEND;TZID=America/Los_Angeles:20280401T220000
DTSTAMP:20260420T203529
CREATED:20260202T050547Z
LAST-MODIFIED:20260303T012927Z
UID:10008597-1838228400-1838239200@hilaryblaha.com
SUMMARY:Karaoke Saturdays
DESCRIPTION:The Pizza Place 7-10pm\, Family Friendly every Saturday. View Flyer
URL:https://hilaryblaha.com/event/karaoke-saturdays/2028-04-01/
LOCATION:Pizza Place\, 3942 Sierra Hwy #3\, Acton\, CA\, 93510\, United States
ATTACH;FMTTYPE=image/jpeg:https://hilaryblaha.com/wp-content/uploads/2026/02/02.07-KareokePizzaPlace.jpg
END:VEVENT
BEGIN:VEVENT
DTSTART;TZID=America/Los_Angeles:20280402T093000
DTEND;TZID=America/Los_Angeles:20280402T110000
DTSTAMP:20260420T203529
CREATED:20251104T235956Z
LAST-MODIFIED:20260303T152932Z
UID:10005299-1838280600-1838286000@hilaryblaha.com
SUMMARY:Gentle Yoga @The Clubhouse
DESCRIPTION:  \nCome join us for a gentle yoga class\, no experience necessary \nSign in at 9:30\, class starts at 10 AM Learn More \n(No class 3/1 or 3/22) \n 
URL:https://hilaryblaha.com/event/gentle-yoga-3-2-2-2-2/2028-04-02/
LOCATION:Agua Dulce Women’s Club\, 33201 Agua Dulce Canyon Road\, Agua Dulce\, CA\, United States
CATEGORIES:Agua Dulce Women’s Club
ATTACH;FMTTYPE=image/jpeg:https://hilaryblaha.com/wp-content/uploads/2023/05/gentle-yoga-2023jpg-768x768-1.jpg
END:VEVENT
BEGIN:VEVENT
DTSTART;TZID=America/Los_Angeles:20280403T130000
DTEND;TZID=America/Los_Angeles:20280403T150000
DTSTAMP:20260420T203529
CREATED:20260402T034908Z
LAST-MODIFIED:20260402T034913Z
UID:10009351-1838379600-1838386800@hilaryblaha.com
SUMMARY:Agua Dulce Acton Senior Citizens Club
DESCRIPTION:Agua Dulce Winery 1p\, First Wednesday of the month Learn More
URL:https://hilaryblaha.com/event/aad-senior-citizens-club-monthly-meet-up-2/2028-04-03/
LOCATION:Agua Dulce Winery
ATTACH;FMTTYPE=image/jpeg:https://hilaryblaha.com/wp-content/uploads/2024/08/Agua-Dulce-Acton-Senior-Citizens-Club-new-logo-JPG-scaled-e1725053928444.jpg
END:VEVENT
BEGIN:VEVENT
DTSTART;TZID=America/Los_Angeles:20280404T100000
DTEND;TZID=America/Los_Angeles:20280404T120000
DTSTAMP:20260420T203529
CREATED:20251231T014605Z
LAST-MODIFIED:20260202T184423Z
UID:10008865-1838455200-1838462400@hilaryblaha.com
SUMMARY:Acton Women’s Club Resale Shoppe – Donation Tuesdays!
DESCRIPTION:We need your donations – Home Decor\, Art\, Clothing\, Furniture\, Toys & More. Tuesdays from 10am – 12pm\, Drop off location: 33345 Santiago Road\, Acton. Thank you for your generosity! Supporting our community one donation at a time. Learn More
URL:https://hilaryblaha.com/event/resale-shoppe-needs-your-donations/2028-04-04/
LOCATION:Resale Shoppe\, 33333 Santiago Road\, Acton\, CA\, 93510\, United States
ATTACH;FMTTYPE=image/png:https://hilaryblaha.com/wp-content/uploads/2025/12/donationtuesday_orig.png
END:VEVENT
BEGIN:VEVENT
DTSTART;TZID=America/Los_Angeles:20280408T080000
DTEND;TZID=America/Los_Angeles:20280408T090000
DTSTAMP:20260420T203529
CREATED:20251231T015946Z
LAST-MODIFIED:20260202T184617Z
UID:10009126-1838793600-1838797200@hilaryblaha.com
SUMMARY:Men’s Bible Study
DESCRIPTION:Wayne Wilson as we walk through the study of 1st Corinthians. Found in the New Testament\, the letter is written by the apostle Paul to the church in Corinth\, a city in ancient Greece. In this letter\, Paul addresses various issues and concerns within the Corinthian church\, including divisions among the believers\, immorality\, lawsuits among believers\, marriage and singleness\, spiritual gifts\, and the resurrection of the dead. Throughout the letter\, Paul emphasizes the importance of unity\, love\, and living according to the teachings of Jesus Christ. He encourages the Corinthians to live holy and righteous lives\, to use their spiritual gifts for the common good\, and to remain steadfast in their faith despite challenges and opposition. The overarching theme of 1 Corinthians is the call for believers to live in harmony with one another and to reflect the love and character of Christ in all aspects of their lives. Questions? Call Pastor Wayne Wilson at 661-269-3609  Learn More
URL:https://hilaryblaha.com/event/mens-bible-study/2028-04-08/
LOCATION:Acton Faith Bible Church
ATTACH;FMTTYPE=image/png:https://hilaryblaha.com/wp-content/uploads/2025/12/01.01-bible-and-coffee.png
END:VEVENT
BEGIN:VEVENT
DTSTART;TZID=America/Los_Angeles:20280408T190000
DTEND;TZID=America/Los_Angeles:20280408T220000
DTSTAMP:20260420T203529
CREATED:20260202T050547Z
LAST-MODIFIED:20260303T012927Z
UID:10008598-1838833200-1838844000@hilaryblaha.com
SUMMARY:Karaoke Saturdays
DESCRIPTION:The Pizza Place 7-10pm\, Family Friendly every Saturday. View Flyer
URL:https://hilaryblaha.com/event/karaoke-saturdays/2028-04-08/
LOCATION:Pizza Place\, 3942 Sierra Hwy #3\, Acton\, CA\, 93510\, United States
ATTACH;FMTTYPE=image/jpeg:https://hilaryblaha.com/wp-content/uploads/2026/02/02.07-KareokePizzaPlace.jpg
END:VEVENT
BEGIN:VEVENT
DTSTART;TZID=America/Los_Angeles:20280409T093000
DTEND;TZID=America/Los_Angeles:20280409T110000
DTSTAMP:20260420T203529
CREATED:20251104T235956Z
LAST-MODIFIED:20260303T152932Z
UID:10005300-1838885400-1838890800@hilaryblaha.com
SUMMARY:Gentle Yoga @The Clubhouse
DESCRIPTION:  \nCome join us for a gentle yoga class\, no experience necessary \nSign in at 9:30\, class starts at 10 AM Learn More \n(No class 3/1 or 3/22) \n 
URL:https://hilaryblaha.com/event/gentle-yoga-3-2-2-2-2/2028-04-09/
LOCATION:Agua Dulce Women’s Club\, 33201 Agua Dulce Canyon Road\, Agua Dulce\, CA\, United States
CATEGORIES:Agua Dulce Women’s Club
ATTACH;FMTTYPE=image/jpeg:https://hilaryblaha.com/wp-content/uploads/2023/05/gentle-yoga-2023jpg-768x768-1.jpg
END:VEVENT
BEGIN:VEVENT
DTSTART;TZID=America/Los_Angeles:20280411T100000
DTEND;TZID=America/Los_Angeles:20280411T120000
DTSTAMP:20260420T203529
CREATED:20251231T014605Z
LAST-MODIFIED:20260202T184423Z
UID:10008866-1839060000-1839067200@hilaryblaha.com
SUMMARY:Acton Women’s Club Resale Shoppe – Donation Tuesdays!
DESCRIPTION:We need your donations – Home Decor\, Art\, Clothing\, Furniture\, Toys & More. Tuesdays from 10am – 12pm\, Drop off location: 33345 Santiago Road\, Acton. Thank you for your generosity! Supporting our community one donation at a time. Learn More
URL:https://hilaryblaha.com/event/resale-shoppe-needs-your-donations/2028-04-11/
LOCATION:Resale Shoppe\, 33333 Santiago Road\, Acton\, CA\, 93510\, United States
ATTACH;FMTTYPE=image/png:https://hilaryblaha.com/wp-content/uploads/2025/12/donationtuesday_orig.png
END:VEVENT
BEGIN:VEVENT
DTSTART;TZID=America/Los_Angeles:20280415T080000
DTEND;TZID=America/Los_Angeles:20280415T090000
DTSTAMP:20260420T203529
CREATED:20251231T015946Z
LAST-MODIFIED:20260202T184617Z
UID:10009127-1839398400-1839402000@hilaryblaha.com
SUMMARY:Men’s Bible Study
DESCRIPTION:Wayne Wilson as we walk through the study of 1st Corinthians. Found in the New Testament\, the letter is written by the apostle Paul to the church in Corinth\, a city in ancient Greece. In this letter\, Paul addresses various issues and concerns within the Corinthian church\, including divisions among the believers\, immorality\, lawsuits among believers\, marriage and singleness\, spiritual gifts\, and the resurrection of the dead. Throughout the letter\, Paul emphasizes the importance of unity\, love\, and living according to the teachings of Jesus Christ. He encourages the Corinthians to live holy and righteous lives\, to use their spiritual gifts for the common good\, and to remain steadfast in their faith despite challenges and opposition. The overarching theme of 1 Corinthians is the call for believers to live in harmony with one another and to reflect the love and character of Christ in all aspects of their lives. Questions? Call Pastor Wayne Wilson at 661-269-3609  Learn More
URL:https://hilaryblaha.com/event/mens-bible-study/2028-04-15/
LOCATION:Acton Faith Bible Church
ATTACH;FMTTYPE=image/png:https://hilaryblaha.com/wp-content/uploads/2025/12/01.01-bible-and-coffee.png
END:VEVENT
END:VCALENDAR