BEGIN:VCALENDAR
VERSION:2.0
PRODID:-//Hilary Blaha Real Estate Team - ECPv6.15.20//NONSGML v1.0//EN
CALSCALE:GREGORIAN
METHOD:PUBLISH
X-ORIGINAL-URL:https://hilaryblaha.com
X-WR-CALDESC:Events for Hilary Blaha Real Estate Team
REFRESH-INTERVAL;VALUE=DURATION:PT1H
X-Robots-Tag:noindex
X-PUBLISHED-TTL:PT1H
BEGIN:VTIMEZONE
TZID:America/Los_Angeles
BEGIN:DAYLIGHT
TZOFFSETFROM:-0800
TZOFFSETTO:-0700
TZNAME:PDT
DTSTART:20270314T100000
END:DAYLIGHT
BEGIN:STANDARD
TZOFFSETFROM:-0700
TZOFFSETTO:-0800
TZNAME:PST
DTSTART:20271107T090000
END:STANDARD
BEGIN:DAYLIGHT
TZOFFSETFROM:-0800
TZOFFSETTO:-0700
TZNAME:PDT
DTSTART:20280312T100000
END:DAYLIGHT
BEGIN:STANDARD
TZOFFSETFROM:-0700
TZOFFSETTO:-0800
TZNAME:PST
DTSTART:20281105T090000
END:STANDARD
BEGIN:DAYLIGHT
TZOFFSETFROM:-0800
TZOFFSETTO:-0700
TZNAME:PDT
DTSTART:20290311T100000
END:DAYLIGHT
BEGIN:STANDARD
TZOFFSETFROM:-0700
TZOFFSETTO:-0800
TZNAME:PST
DTSTART:20291104T090000
END:STANDARD
END:VTIMEZONE
BEGIN:VEVENT
DTSTART;TZID=America/Los_Angeles:20280408T080000
DTEND;TZID=America/Los_Angeles:20280408T090000
DTSTAMP:20260420T202809
CREATED:20251231T015946Z
LAST-MODIFIED:20260202T184617Z
UID:10009126-1838793600-1838797200@hilaryblaha.com
SUMMARY:Men’s Bible Study
DESCRIPTION:Wayne Wilson as we walk through the study of 1st Corinthians. Found in the New Testament\, the letter is written by the apostle Paul to the church in Corinth\, a city in ancient Greece. In this letter\, Paul addresses various issues and concerns within the Corinthian church\, including divisions among the believers\, immorality\, lawsuits among believers\, marriage and singleness\, spiritual gifts\, and the resurrection of the dead. Throughout the letter\, Paul emphasizes the importance of unity\, love\, and living according to the teachings of Jesus Christ. He encourages the Corinthians to live holy and righteous lives\, to use their spiritual gifts for the common good\, and to remain steadfast in their faith despite challenges and opposition. The overarching theme of 1 Corinthians is the call for believers to live in harmony with one another and to reflect the love and character of Christ in all aspects of their lives. Questions? Call Pastor Wayne Wilson at 661-269-3609  Learn More
URL:https://hilaryblaha.com/event/mens-bible-study/2028-04-08/
LOCATION:Acton Faith Bible Church
ATTACH;FMTTYPE=image/png:https://hilaryblaha.com/wp-content/uploads/2025/12/01.01-bible-and-coffee.png
END:VEVENT
BEGIN:VEVENT
DTSTART;TZID=America/Los_Angeles:20280408T190000
DTEND;TZID=America/Los_Angeles:20280408T220000
DTSTAMP:20260420T202809
CREATED:20260202T050547Z
LAST-MODIFIED:20260303T012927Z
UID:10008598-1838833200-1838844000@hilaryblaha.com
SUMMARY:Karaoke Saturdays
DESCRIPTION:The Pizza Place 7-10pm\, Family Friendly every Saturday. View Flyer
URL:https://hilaryblaha.com/event/karaoke-saturdays/2028-04-08/
LOCATION:Pizza Place\, 3942 Sierra Hwy #3\, Acton\, CA\, 93510\, United States
ATTACH;FMTTYPE=image/jpeg:https://hilaryblaha.com/wp-content/uploads/2026/02/02.07-KareokePizzaPlace.jpg
END:VEVENT
BEGIN:VEVENT
DTSTART;TZID=America/Los_Angeles:20280409T093000
DTEND;TZID=America/Los_Angeles:20280409T110000
DTSTAMP:20260420T202810
CREATED:20251104T235956Z
LAST-MODIFIED:20260303T152932Z
UID:10005300-1838885400-1838890800@hilaryblaha.com
SUMMARY:Gentle Yoga @The Clubhouse
DESCRIPTION:  \nCome join us for a gentle yoga class\, no experience necessary \nSign in at 9:30\, class starts at 10 AM Learn More \n(No class 3/1 or 3/22) \n 
URL:https://hilaryblaha.com/event/gentle-yoga-3-2-2-2-2/2028-04-09/
LOCATION:Agua Dulce Women’s Club\, 33201 Agua Dulce Canyon Road\, Agua Dulce\, CA\, United States
CATEGORIES:Agua Dulce Women’s Club
ATTACH;FMTTYPE=image/jpeg:https://hilaryblaha.com/wp-content/uploads/2023/05/gentle-yoga-2023jpg-768x768-1.jpg
END:VEVENT
BEGIN:VEVENT
DTSTART;TZID=America/Los_Angeles:20280411T100000
DTEND;TZID=America/Los_Angeles:20280411T120000
DTSTAMP:20260420T202810
CREATED:20251231T014605Z
LAST-MODIFIED:20260202T184423Z
UID:10008866-1839060000-1839067200@hilaryblaha.com
SUMMARY:Acton Women’s Club Resale Shoppe – Donation Tuesdays!
DESCRIPTION:We need your donations – Home Decor\, Art\, Clothing\, Furniture\, Toys & More. Tuesdays from 10am – 12pm\, Drop off location: 33345 Santiago Road\, Acton. Thank you for your generosity! Supporting our community one donation at a time. Learn More
URL:https://hilaryblaha.com/event/resale-shoppe-needs-your-donations/2028-04-11/
LOCATION:Resale Shoppe\, 33333 Santiago Road\, Acton\, CA\, 93510\, United States
ATTACH;FMTTYPE=image/png:https://hilaryblaha.com/wp-content/uploads/2025/12/donationtuesday_orig.png
END:VEVENT
BEGIN:VEVENT
DTSTART;TZID=America/Los_Angeles:20280415T080000
DTEND;TZID=America/Los_Angeles:20280415T090000
DTSTAMP:20260420T202810
CREATED:20251231T015946Z
LAST-MODIFIED:20260202T184617Z
UID:10009127-1839398400-1839402000@hilaryblaha.com
SUMMARY:Men’s Bible Study
DESCRIPTION:Wayne Wilson as we walk through the study of 1st Corinthians. Found in the New Testament\, the letter is written by the apostle Paul to the church in Corinth\, a city in ancient Greece. In this letter\, Paul addresses various issues and concerns within the Corinthian church\, including divisions among the believers\, immorality\, lawsuits among believers\, marriage and singleness\, spiritual gifts\, and the resurrection of the dead. Throughout the letter\, Paul emphasizes the importance of unity\, love\, and living according to the teachings of Jesus Christ. He encourages the Corinthians to live holy and righteous lives\, to use their spiritual gifts for the common good\, and to remain steadfast in their faith despite challenges and opposition. The overarching theme of 1 Corinthians is the call for believers to live in harmony with one another and to reflect the love and character of Christ in all aspects of their lives. Questions? Call Pastor Wayne Wilson at 661-269-3609  Learn More
URL:https://hilaryblaha.com/event/mens-bible-study/2028-04-15/
LOCATION:Acton Faith Bible Church
ATTACH;FMTTYPE=image/png:https://hilaryblaha.com/wp-content/uploads/2025/12/01.01-bible-and-coffee.png
END:VEVENT
BEGIN:VEVENT
DTSTART;TZID=America/Los_Angeles:20280415T190000
DTEND;TZID=America/Los_Angeles:20280415T220000
DTSTAMP:20260420T202810
CREATED:20260202T050547Z
LAST-MODIFIED:20260303T012927Z
UID:10008599-1839438000-1839448800@hilaryblaha.com
SUMMARY:Karaoke Saturdays
DESCRIPTION:The Pizza Place 7-10pm\, Family Friendly every Saturday. View Flyer
URL:https://hilaryblaha.com/event/karaoke-saturdays/2028-04-15/
LOCATION:Pizza Place\, 3942 Sierra Hwy #3\, Acton\, CA\, 93510\, United States
ATTACH;FMTTYPE=image/jpeg:https://hilaryblaha.com/wp-content/uploads/2026/02/02.07-KareokePizzaPlace.jpg
END:VEVENT
BEGIN:VEVENT
DTSTART;TZID=America/Los_Angeles:20280416T093000
DTEND;TZID=America/Los_Angeles:20280416T110000
DTSTAMP:20260420T202810
CREATED:20251104T235956Z
LAST-MODIFIED:20260303T152932Z
UID:10005301-1839490200-1839495600@hilaryblaha.com
SUMMARY:Gentle Yoga @The Clubhouse
DESCRIPTION:  \nCome join us for a gentle yoga class\, no experience necessary \nSign in at 9:30\, class starts at 10 AM Learn More \n(No class 3/1 or 3/22) \n 
URL:https://hilaryblaha.com/event/gentle-yoga-3-2-2-2-2/2028-04-16/
LOCATION:Agua Dulce Women’s Club\, 33201 Agua Dulce Canyon Road\, Agua Dulce\, CA\, United States
CATEGORIES:Agua Dulce Women’s Club
ATTACH;FMTTYPE=image/jpeg:https://hilaryblaha.com/wp-content/uploads/2023/05/gentle-yoga-2023jpg-768x768-1.jpg
END:VEVENT
BEGIN:VEVENT
DTSTART;TZID=America/Los_Angeles:20280418T100000
DTEND;TZID=America/Los_Angeles:20280418T120000
DTSTAMP:20260420T202810
CREATED:20251231T014605Z
LAST-MODIFIED:20260202T184423Z
UID:10008867-1839664800-1839672000@hilaryblaha.com
SUMMARY:Acton Women’s Club Resale Shoppe – Donation Tuesdays!
DESCRIPTION:We need your donations – Home Decor\, Art\, Clothing\, Furniture\, Toys & More. Tuesdays from 10am – 12pm\, Drop off location: 33345 Santiago Road\, Acton. Thank you for your generosity! Supporting our community one donation at a time. Learn More
URL:https://hilaryblaha.com/event/resale-shoppe-needs-your-donations/2028-04-18/
LOCATION:Resale Shoppe\, 33333 Santiago Road\, Acton\, CA\, 93510\, United States
ATTACH;FMTTYPE=image/png:https://hilaryblaha.com/wp-content/uploads/2025/12/donationtuesday_orig.png
END:VEVENT
BEGIN:VEVENT
DTSTART;TZID=America/Los_Angeles:20280422T080000
DTEND;TZID=America/Los_Angeles:20280422T090000
DTSTAMP:20260420T202810
CREATED:20251231T015946Z
LAST-MODIFIED:20260202T184617Z
UID:10009128-1840003200-1840006800@hilaryblaha.com
SUMMARY:Men’s Bible Study
DESCRIPTION:Wayne Wilson as we walk through the study of 1st Corinthians. Found in the New Testament\, the letter is written by the apostle Paul to the church in Corinth\, a city in ancient Greece. In this letter\, Paul addresses various issues and concerns within the Corinthian church\, including divisions among the believers\, immorality\, lawsuits among believers\, marriage and singleness\, spiritual gifts\, and the resurrection of the dead. Throughout the letter\, Paul emphasizes the importance of unity\, love\, and living according to the teachings of Jesus Christ. He encourages the Corinthians to live holy and righteous lives\, to use their spiritual gifts for the common good\, and to remain steadfast in their faith despite challenges and opposition. The overarching theme of 1 Corinthians is the call for believers to live in harmony with one another and to reflect the love and character of Christ in all aspects of their lives. Questions? Call Pastor Wayne Wilson at 661-269-3609  Learn More
URL:https://hilaryblaha.com/event/mens-bible-study/2028-04-22/
LOCATION:Acton Faith Bible Church
ATTACH;FMTTYPE=image/png:https://hilaryblaha.com/wp-content/uploads/2025/12/01.01-bible-and-coffee.png
END:VEVENT
BEGIN:VEVENT
DTSTART;TZID=America/Los_Angeles:20280422T190000
DTEND;TZID=America/Los_Angeles:20280422T220000
DTSTAMP:20260420T202810
CREATED:20260202T050547Z
LAST-MODIFIED:20260303T012927Z
UID:10008600-1840042800-1840053600@hilaryblaha.com
SUMMARY:Karaoke Saturdays
DESCRIPTION:The Pizza Place 7-10pm\, Family Friendly every Saturday. View Flyer
URL:https://hilaryblaha.com/event/karaoke-saturdays/2028-04-22/
LOCATION:Pizza Place\, 3942 Sierra Hwy #3\, Acton\, CA\, 93510\, United States
ATTACH;FMTTYPE=image/jpeg:https://hilaryblaha.com/wp-content/uploads/2026/02/02.07-KareokePizzaPlace.jpg
END:VEVENT
BEGIN:VEVENT
DTSTART;TZID=America/Los_Angeles:20280423T093000
DTEND;TZID=America/Los_Angeles:20280423T110000
DTSTAMP:20260420T202810
CREATED:20251104T235956Z
LAST-MODIFIED:20260303T152932Z
UID:10005302-1840095000-1840100400@hilaryblaha.com
SUMMARY:Gentle Yoga @The Clubhouse
DESCRIPTION:  \nCome join us for a gentle yoga class\, no experience necessary \nSign in at 9:30\, class starts at 10 AM Learn More \n(No class 3/1 or 3/22) \n 
URL:https://hilaryblaha.com/event/gentle-yoga-3-2-2-2-2/2028-04-23/
LOCATION:Agua Dulce Women’s Club\, 33201 Agua Dulce Canyon Road\, Agua Dulce\, CA\, United States
CATEGORIES:Agua Dulce Women’s Club
ATTACH;FMTTYPE=image/jpeg:https://hilaryblaha.com/wp-content/uploads/2023/05/gentle-yoga-2023jpg-768x768-1.jpg
END:VEVENT
BEGIN:VEVENT
DTSTART;TZID=America/Los_Angeles:20280425T100000
DTEND;TZID=America/Los_Angeles:20280425T120000
DTSTAMP:20260420T202810
CREATED:20251231T014605Z
LAST-MODIFIED:20260202T184423Z
UID:10008868-1840269600-1840276800@hilaryblaha.com
SUMMARY:Acton Women’s Club Resale Shoppe – Donation Tuesdays!
DESCRIPTION:We need your donations – Home Decor\, Art\, Clothing\, Furniture\, Toys & More. Tuesdays from 10am – 12pm\, Drop off location: 33345 Santiago Road\, Acton. Thank you for your generosity! Supporting our community one donation at a time. Learn More
URL:https://hilaryblaha.com/event/resale-shoppe-needs-your-donations/2028-04-25/
LOCATION:Resale Shoppe\, 33333 Santiago Road\, Acton\, CA\, 93510\, United States
ATTACH;FMTTYPE=image/png:https://hilaryblaha.com/wp-content/uploads/2025/12/donationtuesday_orig.png
END:VEVENT
BEGIN:VEVENT
DTSTART;TZID=America/Los_Angeles:20280429T080000
DTEND;TZID=America/Los_Angeles:20280429T090000
DTSTAMP:20260420T202810
CREATED:20251231T015946Z
LAST-MODIFIED:20260202T184617Z
UID:10009129-1840608000-1840611600@hilaryblaha.com
SUMMARY:Men’s Bible Study
DESCRIPTION:Wayne Wilson as we walk through the study of 1st Corinthians. Found in the New Testament\, the letter is written by the apostle Paul to the church in Corinth\, a city in ancient Greece. In this letter\, Paul addresses various issues and concerns within the Corinthian church\, including divisions among the believers\, immorality\, lawsuits among believers\, marriage and singleness\, spiritual gifts\, and the resurrection of the dead. Throughout the letter\, Paul emphasizes the importance of unity\, love\, and living according to the teachings of Jesus Christ. He encourages the Corinthians to live holy and righteous lives\, to use their spiritual gifts for the common good\, and to remain steadfast in their faith despite challenges and opposition. The overarching theme of 1 Corinthians is the call for believers to live in harmony with one another and to reflect the love and character of Christ in all aspects of their lives. Questions? Call Pastor Wayne Wilson at 661-269-3609  Learn More
URL:https://hilaryblaha.com/event/mens-bible-study/2028-04-29/
LOCATION:Acton Faith Bible Church
ATTACH;FMTTYPE=image/png:https://hilaryblaha.com/wp-content/uploads/2025/12/01.01-bible-and-coffee.png
END:VEVENT
BEGIN:VEVENT
DTSTART;TZID=America/Los_Angeles:20280429T190000
DTEND;TZID=America/Los_Angeles:20280429T220000
DTSTAMP:20260420T202810
CREATED:20260202T050547Z
LAST-MODIFIED:20260303T012927Z
UID:10008601-1840647600-1840658400@hilaryblaha.com
SUMMARY:Karaoke Saturdays
DESCRIPTION:The Pizza Place 7-10pm\, Family Friendly every Saturday. View Flyer
URL:https://hilaryblaha.com/event/karaoke-saturdays/2028-04-29/
LOCATION:Pizza Place\, 3942 Sierra Hwy #3\, Acton\, CA\, 93510\, United States
ATTACH;FMTTYPE=image/jpeg:https://hilaryblaha.com/wp-content/uploads/2026/02/02.07-KareokePizzaPlace.jpg
END:VEVENT
BEGIN:VEVENT
DTSTART;TZID=America/Los_Angeles:20280430T093000
DTEND;TZID=America/Los_Angeles:20280430T110000
DTSTAMP:20260420T202810
CREATED:20251104T235956Z
LAST-MODIFIED:20260303T152932Z
UID:10005303-1840699800-1840705200@hilaryblaha.com
SUMMARY:Gentle Yoga @The Clubhouse
DESCRIPTION:  \nCome join us for a gentle yoga class\, no experience necessary \nSign in at 9:30\, class starts at 10 AM Learn More \n(No class 3/1 or 3/22) \n 
URL:https://hilaryblaha.com/event/gentle-yoga-3-2-2-2-2/2028-04-30/
LOCATION:Agua Dulce Women’s Club\, 33201 Agua Dulce Canyon Road\, Agua Dulce\, CA\, United States
CATEGORIES:Agua Dulce Women’s Club
ATTACH;FMTTYPE=image/jpeg:https://hilaryblaha.com/wp-content/uploads/2023/05/gentle-yoga-2023jpg-768x768-1.jpg
END:VEVENT
BEGIN:VEVENT
DTSTART;TZID=America/Los_Angeles:20280501T130000
DTEND;TZID=America/Los_Angeles:20280501T150000
DTSTAMP:20260420T202810
CREATED:20260402T034908Z
LAST-MODIFIED:20260402T034913Z
UID:10009352-1840798800-1840806000@hilaryblaha.com
SUMMARY:Agua Dulce Acton Senior Citizens Club
DESCRIPTION:Agua Dulce Winery 1p\, First Wednesday of the month Learn More
URL:https://hilaryblaha.com/event/aad-senior-citizens-club-monthly-meet-up-2/2028-05-01/
LOCATION:Agua Dulce Winery
ATTACH;FMTTYPE=image/jpeg:https://hilaryblaha.com/wp-content/uploads/2024/08/Agua-Dulce-Acton-Senior-Citizens-Club-new-logo-JPG-scaled-e1725053928444.jpg
END:VEVENT
BEGIN:VEVENT
DTSTART;TZID=America/Los_Angeles:20280502T100000
DTEND;TZID=America/Los_Angeles:20280502T120000
DTSTAMP:20260420T202810
CREATED:20251231T014605Z
LAST-MODIFIED:20260202T184423Z
UID:10008869-1840874400-1840881600@hilaryblaha.com
SUMMARY:Acton Women’s Club Resale Shoppe – Donation Tuesdays!
DESCRIPTION:We need your donations – Home Decor\, Art\, Clothing\, Furniture\, Toys & More. Tuesdays from 10am – 12pm\, Drop off location: 33345 Santiago Road\, Acton. Thank you for your generosity! Supporting our community one donation at a time. Learn More
URL:https://hilaryblaha.com/event/resale-shoppe-needs-your-donations/2028-05-02/
LOCATION:Resale Shoppe\, 33333 Santiago Road\, Acton\, CA\, 93510\, United States
ATTACH;FMTTYPE=image/png:https://hilaryblaha.com/wp-content/uploads/2025/12/donationtuesday_orig.png
END:VEVENT
BEGIN:VEVENT
DTSTART;TZID=America/Los_Angeles:20280506T080000
DTEND;TZID=America/Los_Angeles:20280506T090000
DTSTAMP:20260420T202810
CREATED:20251231T015946Z
LAST-MODIFIED:20260202T184617Z
UID:10009130-1841212800-1841216400@hilaryblaha.com
SUMMARY:Men’s Bible Study
DESCRIPTION:Wayne Wilson as we walk through the study of 1st Corinthians. Found in the New Testament\, the letter is written by the apostle Paul to the church in Corinth\, a city in ancient Greece. In this letter\, Paul addresses various issues and concerns within the Corinthian church\, including divisions among the believers\, immorality\, lawsuits among believers\, marriage and singleness\, spiritual gifts\, and the resurrection of the dead. Throughout the letter\, Paul emphasizes the importance of unity\, love\, and living according to the teachings of Jesus Christ. He encourages the Corinthians to live holy and righteous lives\, to use their spiritual gifts for the common good\, and to remain steadfast in their faith despite challenges and opposition. The overarching theme of 1 Corinthians is the call for believers to live in harmony with one another and to reflect the love and character of Christ in all aspects of their lives. Questions? Call Pastor Wayne Wilson at 661-269-3609  Learn More
URL:https://hilaryblaha.com/event/mens-bible-study/2028-05-06/
LOCATION:Acton Faith Bible Church
ATTACH;FMTTYPE=image/png:https://hilaryblaha.com/wp-content/uploads/2025/12/01.01-bible-and-coffee.png
END:VEVENT
BEGIN:VEVENT
DTSTART;TZID=America/Los_Angeles:20280506T190000
DTEND;TZID=America/Los_Angeles:20280506T220000
DTSTAMP:20260420T202810
CREATED:20260202T050547Z
LAST-MODIFIED:20260303T012927Z
UID:10008602-1841252400-1841263200@hilaryblaha.com
SUMMARY:Karaoke Saturdays
DESCRIPTION:The Pizza Place 7-10pm\, Family Friendly every Saturday. View Flyer
URL:https://hilaryblaha.com/event/karaoke-saturdays/2028-05-06/
LOCATION:Pizza Place\, 3942 Sierra Hwy #3\, Acton\, CA\, 93510\, United States
ATTACH;FMTTYPE=image/jpeg:https://hilaryblaha.com/wp-content/uploads/2026/02/02.07-KareokePizzaPlace.jpg
END:VEVENT
BEGIN:VEVENT
DTSTART;TZID=America/Los_Angeles:20280507T093000
DTEND;TZID=America/Los_Angeles:20280507T110000
DTSTAMP:20260420T202810
CREATED:20251104T235956Z
LAST-MODIFIED:20260303T152932Z
UID:10005304-1841304600-1841310000@hilaryblaha.com
SUMMARY:Gentle Yoga @The Clubhouse
DESCRIPTION:  \nCome join us for a gentle yoga class\, no experience necessary \nSign in at 9:30\, class starts at 10 AM Learn More \n(No class 3/1 or 3/22) \n 
URL:https://hilaryblaha.com/event/gentle-yoga-3-2-2-2-2/2028-05-07/
LOCATION:Agua Dulce Women’s Club\, 33201 Agua Dulce Canyon Road\, Agua Dulce\, CA\, United States
CATEGORIES:Agua Dulce Women’s Club
ATTACH;FMTTYPE=image/jpeg:https://hilaryblaha.com/wp-content/uploads/2023/05/gentle-yoga-2023jpg-768x768-1.jpg
END:VEVENT
BEGIN:VEVENT
DTSTART;TZID=America/Los_Angeles:20280509T100000
DTEND;TZID=America/Los_Angeles:20280509T120000
DTSTAMP:20260420T202810
CREATED:20251231T014605Z
LAST-MODIFIED:20260202T184423Z
UID:10008870-1841479200-1841486400@hilaryblaha.com
SUMMARY:Acton Women’s Club Resale Shoppe – Donation Tuesdays!
DESCRIPTION:We need your donations – Home Decor\, Art\, Clothing\, Furniture\, Toys & More. Tuesdays from 10am – 12pm\, Drop off location: 33345 Santiago Road\, Acton. Thank you for your generosity! Supporting our community one donation at a time. Learn More
URL:https://hilaryblaha.com/event/resale-shoppe-needs-your-donations/2028-05-09/
LOCATION:Resale Shoppe\, 33333 Santiago Road\, Acton\, CA\, 93510\, United States
ATTACH;FMTTYPE=image/png:https://hilaryblaha.com/wp-content/uploads/2025/12/donationtuesday_orig.png
END:VEVENT
BEGIN:VEVENT
DTSTART;TZID=America/Los_Angeles:20280513T080000
DTEND;TZID=America/Los_Angeles:20280513T090000
DTSTAMP:20260420T202810
CREATED:20251231T015946Z
LAST-MODIFIED:20260202T184617Z
UID:10009131-1841817600-1841821200@hilaryblaha.com
SUMMARY:Men’s Bible Study
DESCRIPTION:Wayne Wilson as we walk through the study of 1st Corinthians. Found in the New Testament\, the letter is written by the apostle Paul to the church in Corinth\, a city in ancient Greece. In this letter\, Paul addresses various issues and concerns within the Corinthian church\, including divisions among the believers\, immorality\, lawsuits among believers\, marriage and singleness\, spiritual gifts\, and the resurrection of the dead. Throughout the letter\, Paul emphasizes the importance of unity\, love\, and living according to the teachings of Jesus Christ. He encourages the Corinthians to live holy and righteous lives\, to use their spiritual gifts for the common good\, and to remain steadfast in their faith despite challenges and opposition. The overarching theme of 1 Corinthians is the call for believers to live in harmony with one another and to reflect the love and character of Christ in all aspects of their lives. Questions? Call Pastor Wayne Wilson at 661-269-3609  Learn More
URL:https://hilaryblaha.com/event/mens-bible-study/2028-05-13/
LOCATION:Acton Faith Bible Church
ATTACH;FMTTYPE=image/png:https://hilaryblaha.com/wp-content/uploads/2025/12/01.01-bible-and-coffee.png
END:VEVENT
BEGIN:VEVENT
DTSTART;TZID=America/Los_Angeles:20280513T190000
DTEND;TZID=America/Los_Angeles:20280513T220000
DTSTAMP:20260420T202810
CREATED:20260202T050547Z
LAST-MODIFIED:20260303T012927Z
UID:10008603-1841857200-1841868000@hilaryblaha.com
SUMMARY:Karaoke Saturdays
DESCRIPTION:The Pizza Place 7-10pm\, Family Friendly every Saturday. View Flyer
URL:https://hilaryblaha.com/event/karaoke-saturdays/2028-05-13/
LOCATION:Pizza Place\, 3942 Sierra Hwy #3\, Acton\, CA\, 93510\, United States
ATTACH;FMTTYPE=image/jpeg:https://hilaryblaha.com/wp-content/uploads/2026/02/02.07-KareokePizzaPlace.jpg
END:VEVENT
BEGIN:VEVENT
DTSTART;TZID=America/Los_Angeles:20280514T093000
DTEND;TZID=America/Los_Angeles:20280514T110000
DTSTAMP:20260420T202810
CREATED:20251104T235956Z
LAST-MODIFIED:20260303T152932Z
UID:10005305-1841909400-1841914800@hilaryblaha.com
SUMMARY:Gentle Yoga @The Clubhouse
DESCRIPTION:  \nCome join us for a gentle yoga class\, no experience necessary \nSign in at 9:30\, class starts at 10 AM Learn More \n(No class 3/1 or 3/22) \n 
URL:https://hilaryblaha.com/event/gentle-yoga-3-2-2-2-2/2028-05-14/
LOCATION:Agua Dulce Women’s Club\, 33201 Agua Dulce Canyon Road\, Agua Dulce\, CA\, United States
CATEGORIES:Agua Dulce Women’s Club
ATTACH;FMTTYPE=image/jpeg:https://hilaryblaha.com/wp-content/uploads/2023/05/gentle-yoga-2023jpg-768x768-1.jpg
END:VEVENT
BEGIN:VEVENT
DTSTART;TZID=America/Los_Angeles:20280516T100000
DTEND;TZID=America/Los_Angeles:20280516T120000
DTSTAMP:20260420T202810
CREATED:20251231T014605Z
LAST-MODIFIED:20260202T184423Z
UID:10008871-1842084000-1842091200@hilaryblaha.com
SUMMARY:Acton Women’s Club Resale Shoppe – Donation Tuesdays!
DESCRIPTION:We need your donations – Home Decor\, Art\, Clothing\, Furniture\, Toys & More. Tuesdays from 10am – 12pm\, Drop off location: 33345 Santiago Road\, Acton. Thank you for your generosity! Supporting our community one donation at a time. Learn More
URL:https://hilaryblaha.com/event/resale-shoppe-needs-your-donations/2028-05-16/
LOCATION:Resale Shoppe\, 33333 Santiago Road\, Acton\, CA\, 93510\, United States
ATTACH;FMTTYPE=image/png:https://hilaryblaha.com/wp-content/uploads/2025/12/donationtuesday_orig.png
END:VEVENT
BEGIN:VEVENT
DTSTART;TZID=America/Los_Angeles:20280520T080000
DTEND;TZID=America/Los_Angeles:20280520T090000
DTSTAMP:20260420T202810
CREATED:20251231T015946Z
LAST-MODIFIED:20260202T184617Z
UID:10009132-1842422400-1842426000@hilaryblaha.com
SUMMARY:Men’s Bible Study
DESCRIPTION:Wayne Wilson as we walk through the study of 1st Corinthians. Found in the New Testament\, the letter is written by the apostle Paul to the church in Corinth\, a city in ancient Greece. In this letter\, Paul addresses various issues and concerns within the Corinthian church\, including divisions among the believers\, immorality\, lawsuits among believers\, marriage and singleness\, spiritual gifts\, and the resurrection of the dead. Throughout the letter\, Paul emphasizes the importance of unity\, love\, and living according to the teachings of Jesus Christ. He encourages the Corinthians to live holy and righteous lives\, to use their spiritual gifts for the common good\, and to remain steadfast in their faith despite challenges and opposition. The overarching theme of 1 Corinthians is the call for believers to live in harmony with one another and to reflect the love and character of Christ in all aspects of their lives. Questions? Call Pastor Wayne Wilson at 661-269-3609  Learn More
URL:https://hilaryblaha.com/event/mens-bible-study/2028-05-20/
LOCATION:Acton Faith Bible Church
ATTACH;FMTTYPE=image/png:https://hilaryblaha.com/wp-content/uploads/2025/12/01.01-bible-and-coffee.png
END:VEVENT
BEGIN:VEVENT
DTSTART;TZID=America/Los_Angeles:20280520T190000
DTEND;TZID=America/Los_Angeles:20280520T220000
DTSTAMP:20260420T202810
CREATED:20260202T050547Z
LAST-MODIFIED:20260303T012927Z
UID:10008604-1842462000-1842472800@hilaryblaha.com
SUMMARY:Karaoke Saturdays
DESCRIPTION:The Pizza Place 7-10pm\, Family Friendly every Saturday. View Flyer
URL:https://hilaryblaha.com/event/karaoke-saturdays/2028-05-20/
LOCATION:Pizza Place\, 3942 Sierra Hwy #3\, Acton\, CA\, 93510\, United States
ATTACH;FMTTYPE=image/jpeg:https://hilaryblaha.com/wp-content/uploads/2026/02/02.07-KareokePizzaPlace.jpg
END:VEVENT
BEGIN:VEVENT
DTSTART;TZID=America/Los_Angeles:20280521T093000
DTEND;TZID=America/Los_Angeles:20280521T110000
DTSTAMP:20260420T202810
CREATED:20251104T235956Z
LAST-MODIFIED:20260303T152932Z
UID:10005306-1842514200-1842519600@hilaryblaha.com
SUMMARY:Gentle Yoga @The Clubhouse
DESCRIPTION:  \nCome join us for a gentle yoga class\, no experience necessary \nSign in at 9:30\, class starts at 10 AM Learn More \n(No class 3/1 or 3/22) \n 
URL:https://hilaryblaha.com/event/gentle-yoga-3-2-2-2-2/2028-05-21/
LOCATION:Agua Dulce Women’s Club\, 33201 Agua Dulce Canyon Road\, Agua Dulce\, CA\, United States
CATEGORIES:Agua Dulce Women’s Club
ATTACH;FMTTYPE=image/jpeg:https://hilaryblaha.com/wp-content/uploads/2023/05/gentle-yoga-2023jpg-768x768-1.jpg
END:VEVENT
BEGIN:VEVENT
DTSTART;TZID=America/Los_Angeles:20280523T100000
DTEND;TZID=America/Los_Angeles:20280523T120000
DTSTAMP:20260420T202810
CREATED:20251231T014605Z
LAST-MODIFIED:20260202T184423Z
UID:10008872-1842688800-1842696000@hilaryblaha.com
SUMMARY:Acton Women’s Club Resale Shoppe – Donation Tuesdays!
DESCRIPTION:We need your donations – Home Decor\, Art\, Clothing\, Furniture\, Toys & More. Tuesdays from 10am – 12pm\, Drop off location: 33345 Santiago Road\, Acton. Thank you for your generosity! Supporting our community one donation at a time. Learn More
URL:https://hilaryblaha.com/event/resale-shoppe-needs-your-donations/2028-05-23/
LOCATION:Resale Shoppe\, 33333 Santiago Road\, Acton\, CA\, 93510\, United States
ATTACH;FMTTYPE=image/png:https://hilaryblaha.com/wp-content/uploads/2025/12/donationtuesday_orig.png
END:VEVENT
BEGIN:VEVENT
DTSTART;TZID=America/Los_Angeles:20280527T080000
DTEND;TZID=America/Los_Angeles:20280527T090000
DTSTAMP:20260420T202810
CREATED:20251231T015946Z
LAST-MODIFIED:20260202T184617Z
UID:10009133-1843027200-1843030800@hilaryblaha.com
SUMMARY:Men’s Bible Study
DESCRIPTION:Wayne Wilson as we walk through the study of 1st Corinthians. Found in the New Testament\, the letter is written by the apostle Paul to the church in Corinth\, a city in ancient Greece. In this letter\, Paul addresses various issues and concerns within the Corinthian church\, including divisions among the believers\, immorality\, lawsuits among believers\, marriage and singleness\, spiritual gifts\, and the resurrection of the dead. Throughout the letter\, Paul emphasizes the importance of unity\, love\, and living according to the teachings of Jesus Christ. He encourages the Corinthians to live holy and righteous lives\, to use their spiritual gifts for the common good\, and to remain steadfast in their faith despite challenges and opposition. The overarching theme of 1 Corinthians is the call for believers to live in harmony with one another and to reflect the love and character of Christ in all aspects of their lives. Questions? Call Pastor Wayne Wilson at 661-269-3609  Learn More
URL:https://hilaryblaha.com/event/mens-bible-study/2028-05-27/
LOCATION:Acton Faith Bible Church
ATTACH;FMTTYPE=image/png:https://hilaryblaha.com/wp-content/uploads/2025/12/01.01-bible-and-coffee.png
END:VEVENT
END:VCALENDAR