BEGIN:VCALENDAR
VERSION:2.0
PRODID:-//Hilary Blaha Real Estate Team - ECPv6.15.20//NONSGML v1.0//EN
CALSCALE:GREGORIAN
METHOD:PUBLISH
X-ORIGINAL-URL:https://hilaryblaha.com
X-WR-CALDESC:Events for Hilary Blaha Real Estate Team
REFRESH-INTERVAL;VALUE=DURATION:PT1H
X-Robots-Tag:noindex
X-PUBLISHED-TTL:PT1H
BEGIN:VTIMEZONE
TZID:America/Los_Angeles
BEGIN:DAYLIGHT
TZOFFSETFROM:-0800
TZOFFSETTO:-0700
TZNAME:PDT
DTSTART:20260308T100000
END:DAYLIGHT
BEGIN:STANDARD
TZOFFSETFROM:-0700
TZOFFSETTO:-0800
TZNAME:PST
DTSTART:20261101T090000
END:STANDARD
BEGIN:DAYLIGHT
TZOFFSETFROM:-0800
TZOFFSETTO:-0700
TZNAME:PDT
DTSTART:20270314T100000
END:DAYLIGHT
BEGIN:STANDARD
TZOFFSETFROM:-0700
TZOFFSETTO:-0800
TZNAME:PST
DTSTART:20271107T090000
END:STANDARD
BEGIN:DAYLIGHT
TZOFFSETFROM:-0800
TZOFFSETTO:-0700
TZNAME:PDT
DTSTART:20280312T100000
END:DAYLIGHT
BEGIN:STANDARD
TZOFFSETFROM:-0700
TZOFFSETTO:-0800
TZNAME:PST
DTSTART:20281105T090000
END:STANDARD
BEGIN:DAYLIGHT
TZOFFSETFROM:-0800
TZOFFSETTO:-0700
TZNAME:PDT
DTSTART:20290311T100000
END:DAYLIGHT
BEGIN:STANDARD
TZOFFSETFROM:-0700
TZOFFSETTO:-0800
TZNAME:PST
DTSTART:20291104T090000
END:STANDARD
END:VTIMEZONE
BEGIN:VEVENT
DTSTART;TZID=America/Los_Angeles:20271214T100000
DTEND;TZID=America/Los_Angeles:20271214T120000
DTSTAMP:20260420T172057
CREATED:20251231T014605Z
LAST-MODIFIED:20260202T184423Z
UID:10008849-1828778400-1828785600@hilaryblaha.com
SUMMARY:Acton Women’s Club Resale Shoppe – Donation Tuesdays!
DESCRIPTION:We need your donations – Home Decor\, Art\, Clothing\, Furniture\, Toys & More. Tuesdays from 10am – 12pm\, Drop off location: 33345 Santiago Road\, Acton. Thank you for your generosity! Supporting our community one donation at a time. Learn More
URL:https://hilaryblaha.com/event/resale-shoppe-needs-your-donations/2027-12-14/
LOCATION:Resale Shoppe\, 33333 Santiago Road\, Acton\, CA\, 93510\, United States
ATTACH;FMTTYPE=image/png:https://hilaryblaha.com/wp-content/uploads/2025/12/donationtuesday_orig.png
END:VEVENT
BEGIN:VEVENT
DTSTART;TZID=America/Los_Angeles:20271218T080000
DTEND;TZID=America/Los_Angeles:20271218T090000
DTSTAMP:20260420T172057
CREATED:20251231T015946Z
LAST-MODIFIED:20260202T184617Z
UID:10009110-1829116800-1829120400@hilaryblaha.com
SUMMARY:Men’s Bible Study
DESCRIPTION:Wayne Wilson as we walk through the study of 1st Corinthians. Found in the New Testament\, the letter is written by the apostle Paul to the church in Corinth\, a city in ancient Greece. In this letter\, Paul addresses various issues and concerns within the Corinthian church\, including divisions among the believers\, immorality\, lawsuits among believers\, marriage and singleness\, spiritual gifts\, and the resurrection of the dead. Throughout the letter\, Paul emphasizes the importance of unity\, love\, and living according to the teachings of Jesus Christ. He encourages the Corinthians to live holy and righteous lives\, to use their spiritual gifts for the common good\, and to remain steadfast in their faith despite challenges and opposition. The overarching theme of 1 Corinthians is the call for believers to live in harmony with one another and to reflect the love and character of Christ in all aspects of their lives. Questions? Call Pastor Wayne Wilson at 661-269-3609  Learn More
URL:https://hilaryblaha.com/event/mens-bible-study/2027-12-18/
LOCATION:Acton Faith Bible Church
ATTACH;FMTTYPE=image/png:https://hilaryblaha.com/wp-content/uploads/2025/12/01.01-bible-and-coffee.png
END:VEVENT
BEGIN:VEVENT
DTSTART;TZID=America/Los_Angeles:20271218T190000
DTEND;TZID=America/Los_Angeles:20271218T220000
DTSTAMP:20260420T172057
CREATED:20260202T050547Z
LAST-MODIFIED:20260303T012927Z
UID:10008582-1829156400-1829167200@hilaryblaha.com
SUMMARY:Karaoke Saturdays
DESCRIPTION:The Pizza Place 7-10pm\, Family Friendly every Saturday. View Flyer
URL:https://hilaryblaha.com/event/karaoke-saturdays/2027-12-18/
LOCATION:Pizza Place\, 3942 Sierra Hwy #3\, Acton\, CA\, 93510\, United States
ATTACH;FMTTYPE=image/jpeg:https://hilaryblaha.com/wp-content/uploads/2026/02/02.07-KareokePizzaPlace.jpg
END:VEVENT
BEGIN:VEVENT
DTSTART;TZID=America/Los_Angeles:20271219T093000
DTEND;TZID=America/Los_Angeles:20271219T110000
DTSTAMP:20260420T172057
CREATED:20251104T235956Z
LAST-MODIFIED:20260303T152932Z
UID:10005284-1829208600-1829214000@hilaryblaha.com
SUMMARY:Gentle Yoga @The Clubhouse
DESCRIPTION:  \nCome join us for a gentle yoga class\, no experience necessary \nSign in at 9:30\, class starts at 10 AM Learn More \n(No class 3/1 or 3/22) \n 
URL:https://hilaryblaha.com/event/gentle-yoga-3-2-2-2-2/2027-12-19/
LOCATION:Agua Dulce Women’s Club\, 33201 Agua Dulce Canyon Road\, Agua Dulce\, CA\, United States
CATEGORIES:Agua Dulce Women’s Club
ATTACH;FMTTYPE=image/jpeg:https://hilaryblaha.com/wp-content/uploads/2023/05/gentle-yoga-2023jpg-768x768-1.jpg
END:VEVENT
BEGIN:VEVENT
DTSTART;TZID=America/Los_Angeles:20271221T100000
DTEND;TZID=America/Los_Angeles:20271221T120000
DTSTAMP:20260420T172057
CREATED:20251231T014605Z
LAST-MODIFIED:20260202T184423Z
UID:10008850-1829383200-1829390400@hilaryblaha.com
SUMMARY:Acton Women’s Club Resale Shoppe – Donation Tuesdays!
DESCRIPTION:We need your donations – Home Decor\, Art\, Clothing\, Furniture\, Toys & More. Tuesdays from 10am – 12pm\, Drop off location: 33345 Santiago Road\, Acton. Thank you for your generosity! Supporting our community one donation at a time. Learn More
URL:https://hilaryblaha.com/event/resale-shoppe-needs-your-donations/2027-12-21/
LOCATION:Resale Shoppe\, 33333 Santiago Road\, Acton\, CA\, 93510\, United States
ATTACH;FMTTYPE=image/png:https://hilaryblaha.com/wp-content/uploads/2025/12/donationtuesday_orig.png
END:VEVENT
BEGIN:VEVENT
DTSTART;TZID=America/Los_Angeles:20271225T080000
DTEND;TZID=America/Los_Angeles:20271225T090000
DTSTAMP:20260420T172057
CREATED:20251231T015946Z
LAST-MODIFIED:20260202T184617Z
UID:10009111-1829721600-1829725200@hilaryblaha.com
SUMMARY:Men’s Bible Study
DESCRIPTION:Wayne Wilson as we walk through the study of 1st Corinthians. Found in the New Testament\, the letter is written by the apostle Paul to the church in Corinth\, a city in ancient Greece. In this letter\, Paul addresses various issues and concerns within the Corinthian church\, including divisions among the believers\, immorality\, lawsuits among believers\, marriage and singleness\, spiritual gifts\, and the resurrection of the dead. Throughout the letter\, Paul emphasizes the importance of unity\, love\, and living according to the teachings of Jesus Christ. He encourages the Corinthians to live holy and righteous lives\, to use their spiritual gifts for the common good\, and to remain steadfast in their faith despite challenges and opposition. The overarching theme of 1 Corinthians is the call for believers to live in harmony with one another and to reflect the love and character of Christ in all aspects of their lives. Questions? Call Pastor Wayne Wilson at 661-269-3609  Learn More
URL:https://hilaryblaha.com/event/mens-bible-study/2027-12-25/
LOCATION:Acton Faith Bible Church
ATTACH;FMTTYPE=image/png:https://hilaryblaha.com/wp-content/uploads/2025/12/01.01-bible-and-coffee.png
END:VEVENT
BEGIN:VEVENT
DTSTART;TZID=America/Los_Angeles:20271225T190000
DTEND;TZID=America/Los_Angeles:20271225T220000
DTSTAMP:20260420T172057
CREATED:20260202T050547Z
LAST-MODIFIED:20260303T012927Z
UID:10008583-1829761200-1829772000@hilaryblaha.com
SUMMARY:Karaoke Saturdays
DESCRIPTION:The Pizza Place 7-10pm\, Family Friendly every Saturday. View Flyer
URL:https://hilaryblaha.com/event/karaoke-saturdays/2027-12-25/
LOCATION:Pizza Place\, 3942 Sierra Hwy #3\, Acton\, CA\, 93510\, United States
ATTACH;FMTTYPE=image/jpeg:https://hilaryblaha.com/wp-content/uploads/2026/02/02.07-KareokePizzaPlace.jpg
END:VEVENT
BEGIN:VEVENT
DTSTART;TZID=America/Los_Angeles:20271226T093000
DTEND;TZID=America/Los_Angeles:20271226T110000
DTSTAMP:20260420T172057
CREATED:20251104T235956Z
LAST-MODIFIED:20260303T152932Z
UID:10005285-1829813400-1829818800@hilaryblaha.com
SUMMARY:Gentle Yoga @The Clubhouse
DESCRIPTION:  \nCome join us for a gentle yoga class\, no experience necessary \nSign in at 9:30\, class starts at 10 AM Learn More \n(No class 3/1 or 3/22) \n 
URL:https://hilaryblaha.com/event/gentle-yoga-3-2-2-2-2/2027-12-26/
LOCATION:Agua Dulce Women’s Club\, 33201 Agua Dulce Canyon Road\, Agua Dulce\, CA\, United States
CATEGORIES:Agua Dulce Women’s Club
ATTACH;FMTTYPE=image/jpeg:https://hilaryblaha.com/wp-content/uploads/2023/05/gentle-yoga-2023jpg-768x768-1.jpg
END:VEVENT
BEGIN:VEVENT
DTSTART;TZID=America/Los_Angeles:20271228T100000
DTEND;TZID=America/Los_Angeles:20271228T120000
DTSTAMP:20260420T172057
CREATED:20251231T014605Z
LAST-MODIFIED:20260202T184423Z
UID:10008851-1829988000-1829995200@hilaryblaha.com
SUMMARY:Acton Women’s Club Resale Shoppe – Donation Tuesdays!
DESCRIPTION:We need your donations – Home Decor\, Art\, Clothing\, Furniture\, Toys & More. Tuesdays from 10am – 12pm\, Drop off location: 33345 Santiago Road\, Acton. Thank you for your generosity! Supporting our community one donation at a time. Learn More
URL:https://hilaryblaha.com/event/resale-shoppe-needs-your-donations/2027-12-28/
LOCATION:Resale Shoppe\, 33333 Santiago Road\, Acton\, CA\, 93510\, United States
ATTACH;FMTTYPE=image/png:https://hilaryblaha.com/wp-content/uploads/2025/12/donationtuesday_orig.png
END:VEVENT
BEGIN:VEVENT
DTSTART;TZID=America/Los_Angeles:20280101T080000
DTEND;TZID=America/Los_Angeles:20280101T090000
DTSTAMP:20260420T172057
CREATED:20251231T015946Z
LAST-MODIFIED:20260202T184617Z
UID:10009112-1830326400-1830330000@hilaryblaha.com
SUMMARY:Men’s Bible Study
DESCRIPTION:Wayne Wilson as we walk through the study of 1st Corinthians. Found in the New Testament\, the letter is written by the apostle Paul to the church in Corinth\, a city in ancient Greece. In this letter\, Paul addresses various issues and concerns within the Corinthian church\, including divisions among the believers\, immorality\, lawsuits among believers\, marriage and singleness\, spiritual gifts\, and the resurrection of the dead. Throughout the letter\, Paul emphasizes the importance of unity\, love\, and living according to the teachings of Jesus Christ. He encourages the Corinthians to live holy and righteous lives\, to use their spiritual gifts for the common good\, and to remain steadfast in their faith despite challenges and opposition. The overarching theme of 1 Corinthians is the call for believers to live in harmony with one another and to reflect the love and character of Christ in all aspects of their lives. Questions? Call Pastor Wayne Wilson at 661-269-3609  Learn More
URL:https://hilaryblaha.com/event/mens-bible-study/2028-01-01/
LOCATION:Acton Faith Bible Church
ATTACH;FMTTYPE=image/png:https://hilaryblaha.com/wp-content/uploads/2025/12/01.01-bible-and-coffee.png
END:VEVENT
BEGIN:VEVENT
DTSTART;TZID=America/Los_Angeles:20280101T190000
DTEND;TZID=America/Los_Angeles:20280101T220000
DTSTAMP:20260420T172057
CREATED:20260202T050547Z
LAST-MODIFIED:20260303T012927Z
UID:10008584-1830366000-1830376800@hilaryblaha.com
SUMMARY:Karaoke Saturdays
DESCRIPTION:The Pizza Place 7-10pm\, Family Friendly every Saturday. View Flyer
URL:https://hilaryblaha.com/event/karaoke-saturdays/2028-01-01/
LOCATION:Pizza Place\, 3942 Sierra Hwy #3\, Acton\, CA\, 93510\, United States
ATTACH;FMTTYPE=image/jpeg:https://hilaryblaha.com/wp-content/uploads/2026/02/02.07-KareokePizzaPlace.jpg
END:VEVENT
BEGIN:VEVENT
DTSTART;TZID=America/Los_Angeles:20280102T093000
DTEND;TZID=America/Los_Angeles:20280102T110000
DTSTAMP:20260420T172057
CREATED:20251104T235956Z
LAST-MODIFIED:20260303T152932Z
UID:10005286-1830418200-1830423600@hilaryblaha.com
SUMMARY:Gentle Yoga @The Clubhouse
DESCRIPTION:  \nCome join us for a gentle yoga class\, no experience necessary \nSign in at 9:30\, class starts at 10 AM Learn More \n(No class 3/1 or 3/22) \n 
URL:https://hilaryblaha.com/event/gentle-yoga-3-2-2-2-2/2028-01-02/
LOCATION:Agua Dulce Women’s Club\, 33201 Agua Dulce Canyon Road\, Agua Dulce\, CA\, United States
CATEGORIES:Agua Dulce Women’s Club
ATTACH;FMTTYPE=image/jpeg:https://hilaryblaha.com/wp-content/uploads/2023/05/gentle-yoga-2023jpg-768x768-1.jpg
END:VEVENT
BEGIN:VEVENT
DTSTART;TZID=America/Los_Angeles:20280103T130000
DTEND;TZID=America/Los_Angeles:20280103T150000
DTSTAMP:20260420T172057
CREATED:20260402T034908Z
LAST-MODIFIED:20260402T034913Z
UID:10009348-1830517200-1830524400@hilaryblaha.com
SUMMARY:Agua Dulce Acton Senior Citizens Club
DESCRIPTION:Agua Dulce Winery 1p\, First Wednesday of the month Learn More
URL:https://hilaryblaha.com/event/aad-senior-citizens-club-monthly-meet-up-2/2028-01-03/
LOCATION:Agua Dulce Winery
ATTACH;FMTTYPE=image/jpeg:https://hilaryblaha.com/wp-content/uploads/2024/08/Agua-Dulce-Acton-Senior-Citizens-Club-new-logo-JPG-scaled-e1725053928444.jpg
END:VEVENT
BEGIN:VEVENT
DTSTART;TZID=America/Los_Angeles:20280104T100000
DTEND;TZID=America/Los_Angeles:20280104T120000
DTSTAMP:20260420T172057
CREATED:20251231T014605Z
LAST-MODIFIED:20260202T184423Z
UID:10008852-1830592800-1830600000@hilaryblaha.com
SUMMARY:Acton Women’s Club Resale Shoppe – Donation Tuesdays!
DESCRIPTION:We need your donations – Home Decor\, Art\, Clothing\, Furniture\, Toys & More. Tuesdays from 10am – 12pm\, Drop off location: 33345 Santiago Road\, Acton. Thank you for your generosity! Supporting our community one donation at a time. Learn More
URL:https://hilaryblaha.com/event/resale-shoppe-needs-your-donations/2028-01-04/
LOCATION:Resale Shoppe\, 33333 Santiago Road\, Acton\, CA\, 93510\, United States
ATTACH;FMTTYPE=image/png:https://hilaryblaha.com/wp-content/uploads/2025/12/donationtuesday_orig.png
END:VEVENT
BEGIN:VEVENT
DTSTART;TZID=America/Los_Angeles:20280108T080000
DTEND;TZID=America/Los_Angeles:20280108T090000
DTSTAMP:20260420T172057
CREATED:20251231T015946Z
LAST-MODIFIED:20260202T184617Z
UID:10009113-1830931200-1830934800@hilaryblaha.com
SUMMARY:Men’s Bible Study
DESCRIPTION:Wayne Wilson as we walk through the study of 1st Corinthians. Found in the New Testament\, the letter is written by the apostle Paul to the church in Corinth\, a city in ancient Greece. In this letter\, Paul addresses various issues and concerns within the Corinthian church\, including divisions among the believers\, immorality\, lawsuits among believers\, marriage and singleness\, spiritual gifts\, and the resurrection of the dead. Throughout the letter\, Paul emphasizes the importance of unity\, love\, and living according to the teachings of Jesus Christ. He encourages the Corinthians to live holy and righteous lives\, to use their spiritual gifts for the common good\, and to remain steadfast in their faith despite challenges and opposition. The overarching theme of 1 Corinthians is the call for believers to live in harmony with one another and to reflect the love and character of Christ in all aspects of their lives. Questions? Call Pastor Wayne Wilson at 661-269-3609  Learn More
URL:https://hilaryblaha.com/event/mens-bible-study/2028-01-08/
LOCATION:Acton Faith Bible Church
ATTACH;FMTTYPE=image/png:https://hilaryblaha.com/wp-content/uploads/2025/12/01.01-bible-and-coffee.png
END:VEVENT
BEGIN:VEVENT
DTSTART;TZID=America/Los_Angeles:20280108T190000
DTEND;TZID=America/Los_Angeles:20280108T220000
DTSTAMP:20260420T172057
CREATED:20260202T050547Z
LAST-MODIFIED:20260303T012927Z
UID:10008585-1830970800-1830981600@hilaryblaha.com
SUMMARY:Karaoke Saturdays
DESCRIPTION:The Pizza Place 7-10pm\, Family Friendly every Saturday. View Flyer
URL:https://hilaryblaha.com/event/karaoke-saturdays/2028-01-08/
LOCATION:Pizza Place\, 3942 Sierra Hwy #3\, Acton\, CA\, 93510\, United States
ATTACH;FMTTYPE=image/jpeg:https://hilaryblaha.com/wp-content/uploads/2026/02/02.07-KareokePizzaPlace.jpg
END:VEVENT
BEGIN:VEVENT
DTSTART;TZID=America/Los_Angeles:20280109T093000
DTEND;TZID=America/Los_Angeles:20280109T110000
DTSTAMP:20260420T172057
CREATED:20251104T235956Z
LAST-MODIFIED:20260303T152932Z
UID:10005287-1831023000-1831028400@hilaryblaha.com
SUMMARY:Gentle Yoga @The Clubhouse
DESCRIPTION:  \nCome join us for a gentle yoga class\, no experience necessary \nSign in at 9:30\, class starts at 10 AM Learn More \n(No class 3/1 or 3/22) \n 
URL:https://hilaryblaha.com/event/gentle-yoga-3-2-2-2-2/2028-01-09/
LOCATION:Agua Dulce Women’s Club\, 33201 Agua Dulce Canyon Road\, Agua Dulce\, CA\, United States
CATEGORIES:Agua Dulce Women’s Club
ATTACH;FMTTYPE=image/jpeg:https://hilaryblaha.com/wp-content/uploads/2023/05/gentle-yoga-2023jpg-768x768-1.jpg
END:VEVENT
BEGIN:VEVENT
DTSTART;TZID=America/Los_Angeles:20280111T100000
DTEND;TZID=America/Los_Angeles:20280111T120000
DTSTAMP:20260420T172057
CREATED:20251231T014605Z
LAST-MODIFIED:20260202T184423Z
UID:10008853-1831197600-1831204800@hilaryblaha.com
SUMMARY:Acton Women’s Club Resale Shoppe – Donation Tuesdays!
DESCRIPTION:We need your donations – Home Decor\, Art\, Clothing\, Furniture\, Toys & More. Tuesdays from 10am – 12pm\, Drop off location: 33345 Santiago Road\, Acton. Thank you for your generosity! Supporting our community one donation at a time. Learn More
URL:https://hilaryblaha.com/event/resale-shoppe-needs-your-donations/2028-01-11/
LOCATION:Resale Shoppe\, 33333 Santiago Road\, Acton\, CA\, 93510\, United States
ATTACH;FMTTYPE=image/png:https://hilaryblaha.com/wp-content/uploads/2025/12/donationtuesday_orig.png
END:VEVENT
BEGIN:VEVENT
DTSTART;TZID=America/Los_Angeles:20280115T080000
DTEND;TZID=America/Los_Angeles:20280115T090000
DTSTAMP:20260420T172057
CREATED:20251231T015946Z
LAST-MODIFIED:20260202T184617Z
UID:10009114-1831536000-1831539600@hilaryblaha.com
SUMMARY:Men’s Bible Study
DESCRIPTION:Wayne Wilson as we walk through the study of 1st Corinthians. Found in the New Testament\, the letter is written by the apostle Paul to the church in Corinth\, a city in ancient Greece. In this letter\, Paul addresses various issues and concerns within the Corinthian church\, including divisions among the believers\, immorality\, lawsuits among believers\, marriage and singleness\, spiritual gifts\, and the resurrection of the dead. Throughout the letter\, Paul emphasizes the importance of unity\, love\, and living according to the teachings of Jesus Christ. He encourages the Corinthians to live holy and righteous lives\, to use their spiritual gifts for the common good\, and to remain steadfast in their faith despite challenges and opposition. The overarching theme of 1 Corinthians is the call for believers to live in harmony with one another and to reflect the love and character of Christ in all aspects of their lives. Questions? Call Pastor Wayne Wilson at 661-269-3609  Learn More
URL:https://hilaryblaha.com/event/mens-bible-study/2028-01-15/
LOCATION:Acton Faith Bible Church
ATTACH;FMTTYPE=image/png:https://hilaryblaha.com/wp-content/uploads/2025/12/01.01-bible-and-coffee.png
END:VEVENT
BEGIN:VEVENT
DTSTART;TZID=America/Los_Angeles:20280115T190000
DTEND;TZID=America/Los_Angeles:20280115T220000
DTSTAMP:20260420T172057
CREATED:20260202T050547Z
LAST-MODIFIED:20260303T012927Z
UID:10008586-1831575600-1831586400@hilaryblaha.com
SUMMARY:Karaoke Saturdays
DESCRIPTION:The Pizza Place 7-10pm\, Family Friendly every Saturday. View Flyer
URL:https://hilaryblaha.com/event/karaoke-saturdays/2028-01-15/
LOCATION:Pizza Place\, 3942 Sierra Hwy #3\, Acton\, CA\, 93510\, United States
ATTACH;FMTTYPE=image/jpeg:https://hilaryblaha.com/wp-content/uploads/2026/02/02.07-KareokePizzaPlace.jpg
END:VEVENT
BEGIN:VEVENT
DTSTART;TZID=America/Los_Angeles:20280116T093000
DTEND;TZID=America/Los_Angeles:20280116T110000
DTSTAMP:20260420T172057
CREATED:20251104T235956Z
LAST-MODIFIED:20260303T152932Z
UID:10005288-1831627800-1831633200@hilaryblaha.com
SUMMARY:Gentle Yoga @The Clubhouse
DESCRIPTION:  \nCome join us for a gentle yoga class\, no experience necessary \nSign in at 9:30\, class starts at 10 AM Learn More \n(No class 3/1 or 3/22) \n 
URL:https://hilaryblaha.com/event/gentle-yoga-3-2-2-2-2/2028-01-16/
LOCATION:Agua Dulce Women’s Club\, 33201 Agua Dulce Canyon Road\, Agua Dulce\, CA\, United States
CATEGORIES:Agua Dulce Women’s Club
ATTACH;FMTTYPE=image/jpeg:https://hilaryblaha.com/wp-content/uploads/2023/05/gentle-yoga-2023jpg-768x768-1.jpg
END:VEVENT
BEGIN:VEVENT
DTSTART;TZID=America/Los_Angeles:20280118T100000
DTEND;TZID=America/Los_Angeles:20280118T120000
DTSTAMP:20260420T172057
CREATED:20251231T014605Z
LAST-MODIFIED:20260202T184423Z
UID:10008854-1831802400-1831809600@hilaryblaha.com
SUMMARY:Acton Women’s Club Resale Shoppe – Donation Tuesdays!
DESCRIPTION:We need your donations – Home Decor\, Art\, Clothing\, Furniture\, Toys & More. Tuesdays from 10am – 12pm\, Drop off location: 33345 Santiago Road\, Acton. Thank you for your generosity! Supporting our community one donation at a time. Learn More
URL:https://hilaryblaha.com/event/resale-shoppe-needs-your-donations/2028-01-18/
LOCATION:Resale Shoppe\, 33333 Santiago Road\, Acton\, CA\, 93510\, United States
ATTACH;FMTTYPE=image/png:https://hilaryblaha.com/wp-content/uploads/2025/12/donationtuesday_orig.png
END:VEVENT
BEGIN:VEVENT
DTSTART;TZID=America/Los_Angeles:20280122T080000
DTEND;TZID=America/Los_Angeles:20280122T090000
DTSTAMP:20260420T172057
CREATED:20251231T015946Z
LAST-MODIFIED:20260202T184617Z
UID:10009115-1832140800-1832144400@hilaryblaha.com
SUMMARY:Men’s Bible Study
DESCRIPTION:Wayne Wilson as we walk through the study of 1st Corinthians. Found in the New Testament\, the letter is written by the apostle Paul to the church in Corinth\, a city in ancient Greece. In this letter\, Paul addresses various issues and concerns within the Corinthian church\, including divisions among the believers\, immorality\, lawsuits among believers\, marriage and singleness\, spiritual gifts\, and the resurrection of the dead. Throughout the letter\, Paul emphasizes the importance of unity\, love\, and living according to the teachings of Jesus Christ. He encourages the Corinthians to live holy and righteous lives\, to use their spiritual gifts for the common good\, and to remain steadfast in their faith despite challenges and opposition. The overarching theme of 1 Corinthians is the call for believers to live in harmony with one another and to reflect the love and character of Christ in all aspects of their lives. Questions? Call Pastor Wayne Wilson at 661-269-3609  Learn More
URL:https://hilaryblaha.com/event/mens-bible-study/2028-01-22/
LOCATION:Acton Faith Bible Church
ATTACH;FMTTYPE=image/png:https://hilaryblaha.com/wp-content/uploads/2025/12/01.01-bible-and-coffee.png
END:VEVENT
BEGIN:VEVENT
DTSTART;TZID=America/Los_Angeles:20280122T190000
DTEND;TZID=America/Los_Angeles:20280122T220000
DTSTAMP:20260420T172057
CREATED:20260202T050547Z
LAST-MODIFIED:20260303T012927Z
UID:10008587-1832180400-1832191200@hilaryblaha.com
SUMMARY:Karaoke Saturdays
DESCRIPTION:The Pizza Place 7-10pm\, Family Friendly every Saturday. View Flyer
URL:https://hilaryblaha.com/event/karaoke-saturdays/2028-01-22/
LOCATION:Pizza Place\, 3942 Sierra Hwy #3\, Acton\, CA\, 93510\, United States
ATTACH;FMTTYPE=image/jpeg:https://hilaryblaha.com/wp-content/uploads/2026/02/02.07-KareokePizzaPlace.jpg
END:VEVENT
BEGIN:VEVENT
DTSTART;TZID=America/Los_Angeles:20280123T093000
DTEND;TZID=America/Los_Angeles:20280123T110000
DTSTAMP:20260420T172057
CREATED:20251104T235956Z
LAST-MODIFIED:20260303T152932Z
UID:10005289-1832232600-1832238000@hilaryblaha.com
SUMMARY:Gentle Yoga @The Clubhouse
DESCRIPTION:  \nCome join us for a gentle yoga class\, no experience necessary \nSign in at 9:30\, class starts at 10 AM Learn More \n(No class 3/1 or 3/22) \n 
URL:https://hilaryblaha.com/event/gentle-yoga-3-2-2-2-2/2028-01-23/
LOCATION:Agua Dulce Women’s Club\, 33201 Agua Dulce Canyon Road\, Agua Dulce\, CA\, United States
CATEGORIES:Agua Dulce Women’s Club
ATTACH;FMTTYPE=image/jpeg:https://hilaryblaha.com/wp-content/uploads/2023/05/gentle-yoga-2023jpg-768x768-1.jpg
END:VEVENT
BEGIN:VEVENT
DTSTART;TZID=America/Los_Angeles:20280125T100000
DTEND;TZID=America/Los_Angeles:20280125T120000
DTSTAMP:20260420T172057
CREATED:20251231T014605Z
LAST-MODIFIED:20260202T184423Z
UID:10008855-1832407200-1832414400@hilaryblaha.com
SUMMARY:Acton Women’s Club Resale Shoppe – Donation Tuesdays!
DESCRIPTION:We need your donations – Home Decor\, Art\, Clothing\, Furniture\, Toys & More. Tuesdays from 10am – 12pm\, Drop off location: 33345 Santiago Road\, Acton. Thank you for your generosity! Supporting our community one donation at a time. Learn More
URL:https://hilaryblaha.com/event/resale-shoppe-needs-your-donations/2028-01-25/
LOCATION:Resale Shoppe\, 33333 Santiago Road\, Acton\, CA\, 93510\, United States
ATTACH;FMTTYPE=image/png:https://hilaryblaha.com/wp-content/uploads/2025/12/donationtuesday_orig.png
END:VEVENT
BEGIN:VEVENT
DTSTART;TZID=America/Los_Angeles:20280129T080000
DTEND;TZID=America/Los_Angeles:20280129T090000
DTSTAMP:20260420T172057
CREATED:20251231T015946Z
LAST-MODIFIED:20260202T184617Z
UID:10009116-1832745600-1832749200@hilaryblaha.com
SUMMARY:Men’s Bible Study
DESCRIPTION:Wayne Wilson as we walk through the study of 1st Corinthians. Found in the New Testament\, the letter is written by the apostle Paul to the church in Corinth\, a city in ancient Greece. In this letter\, Paul addresses various issues and concerns within the Corinthian church\, including divisions among the believers\, immorality\, lawsuits among believers\, marriage and singleness\, spiritual gifts\, and the resurrection of the dead. Throughout the letter\, Paul emphasizes the importance of unity\, love\, and living according to the teachings of Jesus Christ. He encourages the Corinthians to live holy and righteous lives\, to use their spiritual gifts for the common good\, and to remain steadfast in their faith despite challenges and opposition. The overarching theme of 1 Corinthians is the call for believers to live in harmony with one another and to reflect the love and character of Christ in all aspects of their lives. Questions? Call Pastor Wayne Wilson at 661-269-3609  Learn More
URL:https://hilaryblaha.com/event/mens-bible-study/2028-01-29/
LOCATION:Acton Faith Bible Church
ATTACH;FMTTYPE=image/png:https://hilaryblaha.com/wp-content/uploads/2025/12/01.01-bible-and-coffee.png
END:VEVENT
BEGIN:VEVENT
DTSTART;TZID=America/Los_Angeles:20280129T190000
DTEND;TZID=America/Los_Angeles:20280129T220000
DTSTAMP:20260420T172057
CREATED:20260202T050547Z
LAST-MODIFIED:20260303T012927Z
UID:10008588-1832785200-1832796000@hilaryblaha.com
SUMMARY:Karaoke Saturdays
DESCRIPTION:The Pizza Place 7-10pm\, Family Friendly every Saturday. View Flyer
URL:https://hilaryblaha.com/event/karaoke-saturdays/2028-01-29/
LOCATION:Pizza Place\, 3942 Sierra Hwy #3\, Acton\, CA\, 93510\, United States
ATTACH;FMTTYPE=image/jpeg:https://hilaryblaha.com/wp-content/uploads/2026/02/02.07-KareokePizzaPlace.jpg
END:VEVENT
BEGIN:VEVENT
DTSTART;TZID=America/Los_Angeles:20280130T093000
DTEND;TZID=America/Los_Angeles:20280130T110000
DTSTAMP:20260420T172057
CREATED:20251104T235956Z
LAST-MODIFIED:20260303T152932Z
UID:10005290-1832837400-1832842800@hilaryblaha.com
SUMMARY:Gentle Yoga @The Clubhouse
DESCRIPTION:  \nCome join us for a gentle yoga class\, no experience necessary \nSign in at 9:30\, class starts at 10 AM Learn More \n(No class 3/1 or 3/22) \n 
URL:https://hilaryblaha.com/event/gentle-yoga-3-2-2-2-2/2028-01-30/
LOCATION:Agua Dulce Women’s Club\, 33201 Agua Dulce Canyon Road\, Agua Dulce\, CA\, United States
CATEGORIES:Agua Dulce Women’s Club
ATTACH;FMTTYPE=image/jpeg:https://hilaryblaha.com/wp-content/uploads/2023/05/gentle-yoga-2023jpg-768x768-1.jpg
END:VEVENT
BEGIN:VEVENT
DTSTART;TZID=America/Los_Angeles:20280201T100000
DTEND;TZID=America/Los_Angeles:20280201T120000
DTSTAMP:20260420T172057
CREATED:20251231T014605Z
LAST-MODIFIED:20260202T184423Z
UID:10008856-1833012000-1833019200@hilaryblaha.com
SUMMARY:Acton Women’s Club Resale Shoppe – Donation Tuesdays!
DESCRIPTION:We need your donations – Home Decor\, Art\, Clothing\, Furniture\, Toys & More. Tuesdays from 10am – 12pm\, Drop off location: 33345 Santiago Road\, Acton. Thank you for your generosity! Supporting our community one donation at a time. Learn More
URL:https://hilaryblaha.com/event/resale-shoppe-needs-your-donations/2028-02-01/
LOCATION:Resale Shoppe\, 33333 Santiago Road\, Acton\, CA\, 93510\, United States
ATTACH;FMTTYPE=image/png:https://hilaryblaha.com/wp-content/uploads/2025/12/donationtuesday_orig.png
END:VEVENT
END:VCALENDAR