BEGIN:VCALENDAR
VERSION:2.0
PRODID:-//Hilary Blaha Real Estate Team - ECPv6.15.20//NONSGML v1.0//EN
CALSCALE:GREGORIAN
METHOD:PUBLISH
X-WR-CALNAME:Hilary Blaha Real Estate Team
X-ORIGINAL-URL:https://hilaryblaha.com
X-WR-CALDESC:Events for Hilary Blaha Real Estate Team
REFRESH-INTERVAL;VALUE=DURATION:PT1H
X-Robots-Tag:noindex
X-PUBLISHED-TTL:PT1H
BEGIN:VTIMEZONE
TZID:America/Los_Angeles
BEGIN:DAYLIGHT
TZOFFSETFROM:-0800
TZOFFSETTO:-0700
TZNAME:PDT
DTSTART:20240310T100000
END:DAYLIGHT
BEGIN:STANDARD
TZOFFSETFROM:-0700
TZOFFSETTO:-0800
TZNAME:PST
DTSTART:20241103T090000
END:STANDARD
BEGIN:DAYLIGHT
TZOFFSETFROM:-0800
TZOFFSETTO:-0700
TZNAME:PDT
DTSTART:20250309T100000
END:DAYLIGHT
BEGIN:STANDARD
TZOFFSETFROM:-0700
TZOFFSETTO:-0800
TZNAME:PST
DTSTART:20251102T090000
END:STANDARD
BEGIN:DAYLIGHT
TZOFFSETFROM:-0800
TZOFFSETTO:-0700
TZNAME:PDT
DTSTART:20260308T100000
END:DAYLIGHT
BEGIN:STANDARD
TZOFFSETFROM:-0700
TZOFFSETTO:-0800
TZNAME:PST
DTSTART:20261101T090000
END:STANDARD
END:VTIMEZONE
BEGIN:VEVENT
DTSTART;TZID=America/Los_Angeles:20251025T100000
DTEND;TZID=America/Los_Angeles:20251025T170000
DTSTAMP:20260420T095522
CREATED:20250927T004351Z
LAST-MODIFIED:20250927T004351Z
UID:10008304-1761386400-1761411600@hilaryblaha.com
SUMMARY:Oktoberfest Vendor Boutique Fundraiser
DESCRIPTION:Acton Community Club 10am – 5pm\, a fun-filled day of shopping\, food\, drinks\, beer\, wine and live music with Crystal Whiskey. Celebrate while supporting a great cause. All proceeds benefit Wild Sage Horse Rescue. Shop unique local vendors & artisans\, raffles\, 50/50\, silent auction. Bring your family and friends and be ready to eat\, drink\, shop\, dance & support horse rescue. For vendor info contact WildSageHorseRescueEventinfo@Yahoo.com  https://www.facebook.com/wildsagehorserescue \nView Flyer
URL:https://hilaryblaha.com/event/oktoberfest-vendor-boutique-fundraiser/
LOCATION:Acton Community Center\, 3748 Nickels Ave\, Acton\, CA\, 93510\, United States
ATTACH;FMTTYPE=image/jpeg:https://hilaryblaha.com/wp-content/uploads/2025/09/10.25-Oktoberfest-1-e1758933821490.jpg
END:VEVENT
BEGIN:VEVENT
DTSTART;TZID=America/Los_Angeles:20251025T090000
DTEND;TZID=America/Los_Angeles:20251025T180000
DTSTAMP:20260420T095522
CREATED:20250926T234532Z
LAST-MODIFIED:20250926T234532Z
UID:10008285-1761382800-1761415200@hilaryblaha.com
SUMMARY:Debellis Ranch Pumpkin Patch
DESCRIPTION:Debellis Ranch 9am – Sunset\, Free entry! Your invited to the first pumpkin patch at the Debellis Family Farm. Wood-fired Pizza for purchase on 10.04 11am-3pm\, flower-picking\, raw honey\, sourdough bread\, jams & more! Learn More
URL:https://hilaryblaha.com/event/debellis-ranch-pumpkin-patch/2025-10-25/
LOCATION:Debellis Ranch\, 32538 Aliso Canyon Rd\, Acton\, CA\, 93510\, United States
ATTACH;FMTTYPE=image/jpeg:https://hilaryblaha.com/wp-content/uploads/2025/09/10.04111825-PumpkinPatch-e1758930271310.jpg
END:VEVENT
BEGIN:VEVENT
DTSTART;TZID=America/Los_Angeles:20251024T190000
DTEND;TZID=America/Los_Angeles:20251024T213000
DTSTAMP:20260420T095522
CREATED:20250827T204941Z
LAST-MODIFIED:20250827T204941Z
UID:10008270-1761332400-1761341400@hilaryblaha.com
SUMMARY:VHS - Home Football Game Schedule
DESCRIPTION:09.19 – San Jacinto vs. VHS \n10.17 – Nuview Bridge vs. VHS \n10.24 – Desert Chapel vs. VHS \n10.31 – Desert Christian vs. VHS
URL:https://hilaryblaha.com/event/vhs-home-football-game-schedule/2025-10-24/
LOCATION:Vasquez High School
ATTACH;FMTTYPE=image/jpeg:https://hilaryblaha.com/wp-content/uploads/2025/08/09.19-VHSFootballSchedule-e1756327711957.jpg
END:VEVENT
BEGIN:VEVENT
DTSTART;TZID=America/Los_Angeles:20251022T180000
DTEND;TZID=America/Los_Angeles:20251022T200000
DTSTAMP:20260420T095522
CREATED:20251007T191456Z
LAST-MODIFIED:20251007T191630Z
UID:10008331-1761156000-1761163200@hilaryblaha.com
SUMMARY:Grease - Whole Community Rally!
DESCRIPTION:Acton-Agua Dulce School District Parking lot- 32248 Crown Valley Road in Acton \nPlease feel free to bring your classic cars for our community “Grease” theme Homecoming rally! Everyone is welcome! We will have a DJ and Hernandez Tacos! \nMake sure you attend the HOMECOMING Game Friday Night October 24th!! View Flyer
URL:https://hilaryblaha.com/event/grease-whole-community-rally/
LOCATION:Acton-Agua Dulce School District\, 32248 Crown Valley Rd\, Acton\,\, CA\, 93510\, United States
ATTACH;FMTTYPE=image/jpeg:https://hilaryblaha.com/wp-content/uploads/2025/10/10.22-Grease-e1759864320367.jpg
END:VEVENT
BEGIN:VEVENT
DTSTART;TZID=America/Los_Angeles:20251022T160000
DTEND;TZID=America/Los_Angeles:20251022T170000
DTSTAMP:20260420T095522
CREATED:20250927T003007Z
LAST-MODIFIED:20250927T003007Z
UID:10008302-1761148800-1761152400@hilaryblaha.com
SUMMARY:Decode This: Morse Code Bracelets
DESCRIPTION:AAD Library 4- 5pm\, Learn about Morse code and create a top-secret accessory. Write your name or favorite phrase using beads and the rules of Morse code. You’ll leave with a new piece of jewelry that only those who understand Morse code can decipher! For ages 13 – 17. Learn More\n 
URL:https://hilaryblaha.com/event/decode-this-morse-code-bracelets-2/
LOCATION:Acton Agua Dulce Library\, 33792 Crown Valley Rd\, Acton\, CA\, 93510\, United States
ATTACH;FMTTYPE=image/jpeg:https://hilaryblaha.com/wp-content/uploads/2025/09/10.22-Morse_Code_Bracelet_Square.jpg
END:VEVENT
BEGIN:VEVENT
DTSTART;TZID=America/Los_Angeles:20251021T180000
DTEND;TZID=America/Los_Angeles:20251021T210000
DTSTAMP:20260420T095522
CREATED:20250926T235549Z
LAST-MODIFIED:20250926T235625Z
UID:10008289-1761069600-1761080400@hilaryblaha.com
SUMMARY:CERT – Community Emergency Response Team
DESCRIPTION:The County of LA Fire Department is hosting a Community Emergency Response Team Training! \nSign up now for a Free In-Person training conducted over seven Tuesdays\, at AD Women’s Club\, Tuesdays Evenings beginning October 7th 6pm – 9pm. To Register and receive more information Click Here \nView Flyer
URL:https://hilaryblaha.com/event/cert-community-emergency-response-team/2025-10-21/
LOCATION:Agua Dulce Women’s Club\, 33201 Agua Dulce Canyon Road\, Agua Dulce\, CA\, United States
ATTACH;FMTTYPE=image/jpeg:https://hilaryblaha.com/wp-content/uploads/2025/09/10.07-12.09-CERT-e1758930895789.jpg
END:VEVENT
END:VCALENDAR