BEGIN:VCALENDAR
VERSION:2.0
PRODID:-//Hilary Blaha Real Estate Team - ECPv6.15.20//NONSGML v1.0//EN
CALSCALE:GREGORIAN
METHOD:PUBLISH
X-ORIGINAL-URL:https://hilaryblaha.com
X-WR-CALDESC:Events for Hilary Blaha Real Estate Team
REFRESH-INTERVAL;VALUE=DURATION:PT1H
X-Robots-Tag:noindex
X-PUBLISHED-TTL:PT1H
BEGIN:VTIMEZONE
TZID:America/Los_Angeles
BEGIN:DAYLIGHT
TZOFFSETFROM:-0800
TZOFFSETTO:-0700
TZNAME:PDT
DTSTART:20260308T100000
END:DAYLIGHT
BEGIN:STANDARD
TZOFFSETFROM:-0700
TZOFFSETTO:-0800
TZNAME:PST
DTSTART:20261101T090000
END:STANDARD
BEGIN:DAYLIGHT
TZOFFSETFROM:-0800
TZOFFSETTO:-0700
TZNAME:PDT
DTSTART:20270314T100000
END:DAYLIGHT
BEGIN:STANDARD
TZOFFSETFROM:-0700
TZOFFSETTO:-0800
TZNAME:PST
DTSTART:20271107T090000
END:STANDARD
BEGIN:DAYLIGHT
TZOFFSETFROM:-0800
TZOFFSETTO:-0700
TZNAME:PDT
DTSTART:20280312T100000
END:DAYLIGHT
BEGIN:STANDARD
TZOFFSETFROM:-0700
TZOFFSETTO:-0800
TZNAME:PST
DTSTART:20281105T090000
END:STANDARD
END:VTIMEZONE
BEGIN:VEVENT
DTSTART;TZID=America/Los_Angeles:20270403T080000
DTEND;TZID=America/Los_Angeles:20270403T090000
DTSTAMP:20260419T222805
CREATED:20251231T015946Z
LAST-MODIFIED:20260202T184617Z
UID:10009073-1806739200-1806742800@hilaryblaha.com
SUMMARY:Men’s Bible Study
DESCRIPTION:Wayne Wilson as we walk through the study of 1st Corinthians. Found in the New Testament\, the letter is written by the apostle Paul to the church in Corinth\, a city in ancient Greece. In this letter\, Paul addresses various issues and concerns within the Corinthian church\, including divisions among the believers\, immorality\, lawsuits among believers\, marriage and singleness\, spiritual gifts\, and the resurrection of the dead. Throughout the letter\, Paul emphasizes the importance of unity\, love\, and living according to the teachings of Jesus Christ. He encourages the Corinthians to live holy and righteous lives\, to use their spiritual gifts for the common good\, and to remain steadfast in their faith despite challenges and opposition. The overarching theme of 1 Corinthians is the call for believers to live in harmony with one another and to reflect the love and character of Christ in all aspects of their lives. Questions? Call Pastor Wayne Wilson at 661-269-3609  Learn More
URL:https://hilaryblaha.com/event/mens-bible-study/2027-04-03/
LOCATION:Acton Faith Bible Church
ATTACH;FMTTYPE=image/png:https://hilaryblaha.com/wp-content/uploads/2025/12/01.01-bible-and-coffee.png
END:VEVENT
BEGIN:VEVENT
DTSTART;TZID=America/Los_Angeles:20270403T190000
DTEND;TZID=America/Los_Angeles:20270403T220000
DTSTAMP:20260419T222805
CREATED:20260202T050547Z
LAST-MODIFIED:20260303T012927Z
UID:10008545-1806778800-1806789600@hilaryblaha.com
SUMMARY:Karaoke Saturdays
DESCRIPTION:The Pizza Place 7-10pm\, Family Friendly every Saturday. View Flyer
URL:https://hilaryblaha.com/event/karaoke-saturdays/2027-04-03/
LOCATION:Pizza Place\, 3942 Sierra Hwy #3\, Acton\, CA\, 93510\, United States
ATTACH;FMTTYPE=image/jpeg:https://hilaryblaha.com/wp-content/uploads/2026/02/02.07-KareokePizzaPlace.jpg
END:VEVENT
BEGIN:VEVENT
DTSTART;TZID=America/Los_Angeles:20270404T093000
DTEND;TZID=America/Los_Angeles:20270404T110000
DTSTAMP:20260419T222805
CREATED:20251104T235956Z
LAST-MODIFIED:20260303T152932Z
UID:10005247-1806831000-1806836400@hilaryblaha.com
SUMMARY:Gentle Yoga @The Clubhouse
DESCRIPTION:  \nCome join us for a gentle yoga class\, no experience necessary \nSign in at 9:30\, class starts at 10 AM Learn More \n(No class 3/1 or 3/22) \n 
URL:https://hilaryblaha.com/event/gentle-yoga-3-2-2-2-2/2027-04-04/
LOCATION:Agua Dulce Women’s Club\, 33201 Agua Dulce Canyon Road\, Agua Dulce\, CA\, United States
CATEGORIES:Agua Dulce Women’s Club
ATTACH;FMTTYPE=image/jpeg:https://hilaryblaha.com/wp-content/uploads/2023/05/gentle-yoga-2023jpg-768x768-1.jpg
END:VEVENT
BEGIN:VEVENT
DTSTART;TZID=America/Los_Angeles:20270405T130000
DTEND;TZID=America/Los_Angeles:20270405T150000
DTSTAMP:20260419T222805
CREATED:20260402T034908Z
LAST-MODIFIED:20260402T034913Z
UID:10009339-1806930000-1806937200@hilaryblaha.com
SUMMARY:Agua Dulce Acton Senior Citizens Club
DESCRIPTION:Agua Dulce Winery 1p\, First Wednesday of the month Learn More
URL:https://hilaryblaha.com/event/aad-senior-citizens-club-monthly-meet-up-2/2027-04-05/
LOCATION:Agua Dulce Winery
ATTACH;FMTTYPE=image/jpeg:https://hilaryblaha.com/wp-content/uploads/2024/08/Agua-Dulce-Acton-Senior-Citizens-Club-new-logo-JPG-scaled-e1725053928444.jpg
END:VEVENT
BEGIN:VEVENT
DTSTART;TZID=America/Los_Angeles:20270406T100000
DTEND;TZID=America/Los_Angeles:20270406T120000
DTSTAMP:20260419T222805
CREATED:20251231T014605Z
LAST-MODIFIED:20260202T184423Z
UID:10008813-1807005600-1807012800@hilaryblaha.com
SUMMARY:Acton Women’s Club Resale Shoppe – Donation Tuesdays!
DESCRIPTION:We need your donations – Home Decor\, Art\, Clothing\, Furniture\, Toys & More. Tuesdays from 10am – 12pm\, Drop off location: 33345 Santiago Road\, Acton. Thank you for your generosity! Supporting our community one donation at a time. Learn More
URL:https://hilaryblaha.com/event/resale-shoppe-needs-your-donations/2027-04-06/
LOCATION:Resale Shoppe\, 33333 Santiago Road\, Acton\, CA\, 93510\, United States
ATTACH;FMTTYPE=image/png:https://hilaryblaha.com/wp-content/uploads/2025/12/donationtuesday_orig.png
END:VEVENT
BEGIN:VEVENT
DTSTART;TZID=America/Los_Angeles:20270410T080000
DTEND;TZID=America/Los_Angeles:20270410T090000
DTSTAMP:20260419T222805
CREATED:20251231T015946Z
LAST-MODIFIED:20260202T184617Z
UID:10009074-1807344000-1807347600@hilaryblaha.com
SUMMARY:Men’s Bible Study
DESCRIPTION:Wayne Wilson as we walk through the study of 1st Corinthians. Found in the New Testament\, the letter is written by the apostle Paul to the church in Corinth\, a city in ancient Greece. In this letter\, Paul addresses various issues and concerns within the Corinthian church\, including divisions among the believers\, immorality\, lawsuits among believers\, marriage and singleness\, spiritual gifts\, and the resurrection of the dead. Throughout the letter\, Paul emphasizes the importance of unity\, love\, and living according to the teachings of Jesus Christ. He encourages the Corinthians to live holy and righteous lives\, to use their spiritual gifts for the common good\, and to remain steadfast in their faith despite challenges and opposition. The overarching theme of 1 Corinthians is the call for believers to live in harmony with one another and to reflect the love and character of Christ in all aspects of their lives. Questions? Call Pastor Wayne Wilson at 661-269-3609  Learn More
URL:https://hilaryblaha.com/event/mens-bible-study/2027-04-10/
LOCATION:Acton Faith Bible Church
ATTACH;FMTTYPE=image/png:https://hilaryblaha.com/wp-content/uploads/2025/12/01.01-bible-and-coffee.png
END:VEVENT
BEGIN:VEVENT
DTSTART;TZID=America/Los_Angeles:20270410T190000
DTEND;TZID=America/Los_Angeles:20270410T220000
DTSTAMP:20260419T222805
CREATED:20260202T050547Z
LAST-MODIFIED:20260303T012927Z
UID:10008546-1807383600-1807394400@hilaryblaha.com
SUMMARY:Karaoke Saturdays
DESCRIPTION:The Pizza Place 7-10pm\, Family Friendly every Saturday. View Flyer
URL:https://hilaryblaha.com/event/karaoke-saturdays/2027-04-10/
LOCATION:Pizza Place\, 3942 Sierra Hwy #3\, Acton\, CA\, 93510\, United States
ATTACH;FMTTYPE=image/jpeg:https://hilaryblaha.com/wp-content/uploads/2026/02/02.07-KareokePizzaPlace.jpg
END:VEVENT
BEGIN:VEVENT
DTSTART;TZID=America/Los_Angeles:20270411T093000
DTEND;TZID=America/Los_Angeles:20270411T110000
DTSTAMP:20260419T222805
CREATED:20251104T235956Z
LAST-MODIFIED:20260303T152932Z
UID:10005248-1807435800-1807441200@hilaryblaha.com
SUMMARY:Gentle Yoga @The Clubhouse
DESCRIPTION:  \nCome join us for a gentle yoga class\, no experience necessary \nSign in at 9:30\, class starts at 10 AM Learn More \n(No class 3/1 or 3/22) \n 
URL:https://hilaryblaha.com/event/gentle-yoga-3-2-2-2-2/2027-04-11/
LOCATION:Agua Dulce Women’s Club\, 33201 Agua Dulce Canyon Road\, Agua Dulce\, CA\, United States
CATEGORIES:Agua Dulce Women’s Club
ATTACH;FMTTYPE=image/jpeg:https://hilaryblaha.com/wp-content/uploads/2023/05/gentle-yoga-2023jpg-768x768-1.jpg
END:VEVENT
BEGIN:VEVENT
DTSTART;TZID=America/Los_Angeles:20270413T100000
DTEND;TZID=America/Los_Angeles:20270413T120000
DTSTAMP:20260419T222805
CREATED:20251231T014605Z
LAST-MODIFIED:20260202T184423Z
UID:10008814-1807610400-1807617600@hilaryblaha.com
SUMMARY:Acton Women’s Club Resale Shoppe – Donation Tuesdays!
DESCRIPTION:We need your donations – Home Decor\, Art\, Clothing\, Furniture\, Toys & More. Tuesdays from 10am – 12pm\, Drop off location: 33345 Santiago Road\, Acton. Thank you for your generosity! Supporting our community one donation at a time. Learn More
URL:https://hilaryblaha.com/event/resale-shoppe-needs-your-donations/2027-04-13/
LOCATION:Resale Shoppe\, 33333 Santiago Road\, Acton\, CA\, 93510\, United States
ATTACH;FMTTYPE=image/png:https://hilaryblaha.com/wp-content/uploads/2025/12/donationtuesday_orig.png
END:VEVENT
BEGIN:VEVENT
DTSTART;TZID=America/Los_Angeles:20270417T080000
DTEND;TZID=America/Los_Angeles:20270417T090000
DTSTAMP:20260419T222805
CREATED:20251231T015946Z
LAST-MODIFIED:20260202T184617Z
UID:10009075-1807948800-1807952400@hilaryblaha.com
SUMMARY:Men’s Bible Study
DESCRIPTION:Wayne Wilson as we walk through the study of 1st Corinthians. Found in the New Testament\, the letter is written by the apostle Paul to the church in Corinth\, a city in ancient Greece. In this letter\, Paul addresses various issues and concerns within the Corinthian church\, including divisions among the believers\, immorality\, lawsuits among believers\, marriage and singleness\, spiritual gifts\, and the resurrection of the dead. Throughout the letter\, Paul emphasizes the importance of unity\, love\, and living according to the teachings of Jesus Christ. He encourages the Corinthians to live holy and righteous lives\, to use their spiritual gifts for the common good\, and to remain steadfast in their faith despite challenges and opposition. The overarching theme of 1 Corinthians is the call for believers to live in harmony with one another and to reflect the love and character of Christ in all aspects of their lives. Questions? Call Pastor Wayne Wilson at 661-269-3609  Learn More
URL:https://hilaryblaha.com/event/mens-bible-study/2027-04-17/
LOCATION:Acton Faith Bible Church
ATTACH;FMTTYPE=image/png:https://hilaryblaha.com/wp-content/uploads/2025/12/01.01-bible-and-coffee.png
END:VEVENT
BEGIN:VEVENT
DTSTART;TZID=America/Los_Angeles:20270417T190000
DTEND;TZID=America/Los_Angeles:20270417T220000
DTSTAMP:20260419T222805
CREATED:20260202T050547Z
LAST-MODIFIED:20260303T012927Z
UID:10008547-1807988400-1807999200@hilaryblaha.com
SUMMARY:Karaoke Saturdays
DESCRIPTION:The Pizza Place 7-10pm\, Family Friendly every Saturday. View Flyer
URL:https://hilaryblaha.com/event/karaoke-saturdays/2027-04-17/
LOCATION:Pizza Place\, 3942 Sierra Hwy #3\, Acton\, CA\, 93510\, United States
ATTACH;FMTTYPE=image/jpeg:https://hilaryblaha.com/wp-content/uploads/2026/02/02.07-KareokePizzaPlace.jpg
END:VEVENT
BEGIN:VEVENT
DTSTART;TZID=America/Los_Angeles:20270418T093000
DTEND;TZID=America/Los_Angeles:20270418T110000
DTSTAMP:20260419T222805
CREATED:20251104T235956Z
LAST-MODIFIED:20260303T152932Z
UID:10005249-1808040600-1808046000@hilaryblaha.com
SUMMARY:Gentle Yoga @The Clubhouse
DESCRIPTION:  \nCome join us for a gentle yoga class\, no experience necessary \nSign in at 9:30\, class starts at 10 AM Learn More \n(No class 3/1 or 3/22) \n 
URL:https://hilaryblaha.com/event/gentle-yoga-3-2-2-2-2/2027-04-18/
LOCATION:Agua Dulce Women’s Club\, 33201 Agua Dulce Canyon Road\, Agua Dulce\, CA\, United States
CATEGORIES:Agua Dulce Women’s Club
ATTACH;FMTTYPE=image/jpeg:https://hilaryblaha.com/wp-content/uploads/2023/05/gentle-yoga-2023jpg-768x768-1.jpg
END:VEVENT
BEGIN:VEVENT
DTSTART;TZID=America/Los_Angeles:20270420T100000
DTEND;TZID=America/Los_Angeles:20270420T120000
DTSTAMP:20260419T222805
CREATED:20251231T014605Z
LAST-MODIFIED:20260202T184423Z
UID:10008815-1808215200-1808222400@hilaryblaha.com
SUMMARY:Acton Women’s Club Resale Shoppe – Donation Tuesdays!
DESCRIPTION:We need your donations – Home Decor\, Art\, Clothing\, Furniture\, Toys & More. Tuesdays from 10am – 12pm\, Drop off location: 33345 Santiago Road\, Acton. Thank you for your generosity! Supporting our community one donation at a time. Learn More
URL:https://hilaryblaha.com/event/resale-shoppe-needs-your-donations/2027-04-20/
LOCATION:Resale Shoppe\, 33333 Santiago Road\, Acton\, CA\, 93510\, United States
ATTACH;FMTTYPE=image/png:https://hilaryblaha.com/wp-content/uploads/2025/12/donationtuesday_orig.png
END:VEVENT
BEGIN:VEVENT
DTSTART;TZID=America/Los_Angeles:20270424T080000
DTEND;TZID=America/Los_Angeles:20270424T090000
DTSTAMP:20260419T222805
CREATED:20251231T015946Z
LAST-MODIFIED:20260202T184617Z
UID:10009076-1808553600-1808557200@hilaryblaha.com
SUMMARY:Men’s Bible Study
DESCRIPTION:Wayne Wilson as we walk through the study of 1st Corinthians. Found in the New Testament\, the letter is written by the apostle Paul to the church in Corinth\, a city in ancient Greece. In this letter\, Paul addresses various issues and concerns within the Corinthian church\, including divisions among the believers\, immorality\, lawsuits among believers\, marriage and singleness\, spiritual gifts\, and the resurrection of the dead. Throughout the letter\, Paul emphasizes the importance of unity\, love\, and living according to the teachings of Jesus Christ. He encourages the Corinthians to live holy and righteous lives\, to use their spiritual gifts for the common good\, and to remain steadfast in their faith despite challenges and opposition. The overarching theme of 1 Corinthians is the call for believers to live in harmony with one another and to reflect the love and character of Christ in all aspects of their lives. Questions? Call Pastor Wayne Wilson at 661-269-3609  Learn More
URL:https://hilaryblaha.com/event/mens-bible-study/2027-04-24/
LOCATION:Acton Faith Bible Church
ATTACH;FMTTYPE=image/png:https://hilaryblaha.com/wp-content/uploads/2025/12/01.01-bible-and-coffee.png
END:VEVENT
BEGIN:VEVENT
DTSTART;TZID=America/Los_Angeles:20270424T190000
DTEND;TZID=America/Los_Angeles:20270424T220000
DTSTAMP:20260419T222805
CREATED:20260202T050547Z
LAST-MODIFIED:20260303T012927Z
UID:10008548-1808593200-1808604000@hilaryblaha.com
SUMMARY:Karaoke Saturdays
DESCRIPTION:The Pizza Place 7-10pm\, Family Friendly every Saturday. View Flyer
URL:https://hilaryblaha.com/event/karaoke-saturdays/2027-04-24/
LOCATION:Pizza Place\, 3942 Sierra Hwy #3\, Acton\, CA\, 93510\, United States
ATTACH;FMTTYPE=image/jpeg:https://hilaryblaha.com/wp-content/uploads/2026/02/02.07-KareokePizzaPlace.jpg
END:VEVENT
BEGIN:VEVENT
DTSTART;TZID=America/Los_Angeles:20270425T093000
DTEND;TZID=America/Los_Angeles:20270425T110000
DTSTAMP:20260419T222805
CREATED:20251104T235956Z
LAST-MODIFIED:20260303T152932Z
UID:10005250-1808645400-1808650800@hilaryblaha.com
SUMMARY:Gentle Yoga @The Clubhouse
DESCRIPTION:  \nCome join us for a gentle yoga class\, no experience necessary \nSign in at 9:30\, class starts at 10 AM Learn More \n(No class 3/1 or 3/22) \n 
URL:https://hilaryblaha.com/event/gentle-yoga-3-2-2-2-2/2027-04-25/
LOCATION:Agua Dulce Women’s Club\, 33201 Agua Dulce Canyon Road\, Agua Dulce\, CA\, United States
CATEGORIES:Agua Dulce Women’s Club
ATTACH;FMTTYPE=image/jpeg:https://hilaryblaha.com/wp-content/uploads/2023/05/gentle-yoga-2023jpg-768x768-1.jpg
END:VEVENT
BEGIN:VEVENT
DTSTART;TZID=America/Los_Angeles:20270427T100000
DTEND;TZID=America/Los_Angeles:20270427T120000
DTSTAMP:20260419T222805
CREATED:20251231T014605Z
LAST-MODIFIED:20260202T184423Z
UID:10008816-1808820000-1808827200@hilaryblaha.com
SUMMARY:Acton Women’s Club Resale Shoppe – Donation Tuesdays!
DESCRIPTION:We need your donations – Home Decor\, Art\, Clothing\, Furniture\, Toys & More. Tuesdays from 10am – 12pm\, Drop off location: 33345 Santiago Road\, Acton. Thank you for your generosity! Supporting our community one donation at a time. Learn More
URL:https://hilaryblaha.com/event/resale-shoppe-needs-your-donations/2027-04-27/
LOCATION:Resale Shoppe\, 33333 Santiago Road\, Acton\, CA\, 93510\, United States
ATTACH;FMTTYPE=image/png:https://hilaryblaha.com/wp-content/uploads/2025/12/donationtuesday_orig.png
END:VEVENT
BEGIN:VEVENT
DTSTART;TZID=America/Los_Angeles:20270501T080000
DTEND;TZID=America/Los_Angeles:20270501T090000
DTSTAMP:20260419T222805
CREATED:20251231T015946Z
LAST-MODIFIED:20260202T184617Z
UID:10009077-1809158400-1809162000@hilaryblaha.com
SUMMARY:Men’s Bible Study
DESCRIPTION:Wayne Wilson as we walk through the study of 1st Corinthians. Found in the New Testament\, the letter is written by the apostle Paul to the church in Corinth\, a city in ancient Greece. In this letter\, Paul addresses various issues and concerns within the Corinthian church\, including divisions among the believers\, immorality\, lawsuits among believers\, marriage and singleness\, spiritual gifts\, and the resurrection of the dead. Throughout the letter\, Paul emphasizes the importance of unity\, love\, and living according to the teachings of Jesus Christ. He encourages the Corinthians to live holy and righteous lives\, to use their spiritual gifts for the common good\, and to remain steadfast in their faith despite challenges and opposition. The overarching theme of 1 Corinthians is the call for believers to live in harmony with one another and to reflect the love and character of Christ in all aspects of their lives. Questions? Call Pastor Wayne Wilson at 661-269-3609  Learn More
URL:https://hilaryblaha.com/event/mens-bible-study/2027-05-01/
LOCATION:Acton Faith Bible Church
ATTACH;FMTTYPE=image/png:https://hilaryblaha.com/wp-content/uploads/2025/12/01.01-bible-and-coffee.png
END:VEVENT
BEGIN:VEVENT
DTSTART;TZID=America/Los_Angeles:20270501T190000
DTEND;TZID=America/Los_Angeles:20270501T220000
DTSTAMP:20260419T222805
CREATED:20260202T050547Z
LAST-MODIFIED:20260303T012927Z
UID:10008549-1809198000-1809208800@hilaryblaha.com
SUMMARY:Karaoke Saturdays
DESCRIPTION:The Pizza Place 7-10pm\, Family Friendly every Saturday. View Flyer
URL:https://hilaryblaha.com/event/karaoke-saturdays/2027-05-01/
LOCATION:Pizza Place\, 3942 Sierra Hwy #3\, Acton\, CA\, 93510\, United States
ATTACH;FMTTYPE=image/jpeg:https://hilaryblaha.com/wp-content/uploads/2026/02/02.07-KareokePizzaPlace.jpg
END:VEVENT
BEGIN:VEVENT
DTSTART;TZID=America/Los_Angeles:20270502T093000
DTEND;TZID=America/Los_Angeles:20270502T110000
DTSTAMP:20260419T222805
CREATED:20251104T235956Z
LAST-MODIFIED:20260303T152932Z
UID:10005251-1809250200-1809255600@hilaryblaha.com
SUMMARY:Gentle Yoga @The Clubhouse
DESCRIPTION:  \nCome join us for a gentle yoga class\, no experience necessary \nSign in at 9:30\, class starts at 10 AM Learn More \n(No class 3/1 or 3/22) \n 
URL:https://hilaryblaha.com/event/gentle-yoga-3-2-2-2-2/2027-05-02/
LOCATION:Agua Dulce Women’s Club\, 33201 Agua Dulce Canyon Road\, Agua Dulce\, CA\, United States
CATEGORIES:Agua Dulce Women’s Club
ATTACH;FMTTYPE=image/jpeg:https://hilaryblaha.com/wp-content/uploads/2023/05/gentle-yoga-2023jpg-768x768-1.jpg
END:VEVENT
BEGIN:VEVENT
DTSTART;TZID=America/Los_Angeles:20270503T130000
DTEND;TZID=America/Los_Angeles:20270503T150000
DTSTAMP:20260419T222805
CREATED:20260402T034908Z
LAST-MODIFIED:20260402T034913Z
UID:10009340-1809349200-1809356400@hilaryblaha.com
SUMMARY:Agua Dulce Acton Senior Citizens Club
DESCRIPTION:Agua Dulce Winery 1p\, First Wednesday of the month Learn More
URL:https://hilaryblaha.com/event/aad-senior-citizens-club-monthly-meet-up-2/2027-05-03/
LOCATION:Agua Dulce Winery
ATTACH;FMTTYPE=image/jpeg:https://hilaryblaha.com/wp-content/uploads/2024/08/Agua-Dulce-Acton-Senior-Citizens-Club-new-logo-JPG-scaled-e1725053928444.jpg
END:VEVENT
BEGIN:VEVENT
DTSTART;TZID=America/Los_Angeles:20270504T100000
DTEND;TZID=America/Los_Angeles:20270504T120000
DTSTAMP:20260419T222805
CREATED:20251231T014605Z
LAST-MODIFIED:20260202T184423Z
UID:10008817-1809424800-1809432000@hilaryblaha.com
SUMMARY:Acton Women’s Club Resale Shoppe – Donation Tuesdays!
DESCRIPTION:We need your donations – Home Decor\, Art\, Clothing\, Furniture\, Toys & More. Tuesdays from 10am – 12pm\, Drop off location: 33345 Santiago Road\, Acton. Thank you for your generosity! Supporting our community one donation at a time. Learn More
URL:https://hilaryblaha.com/event/resale-shoppe-needs-your-donations/2027-05-04/
LOCATION:Resale Shoppe\, 33333 Santiago Road\, Acton\, CA\, 93510\, United States
ATTACH;FMTTYPE=image/png:https://hilaryblaha.com/wp-content/uploads/2025/12/donationtuesday_orig.png
END:VEVENT
BEGIN:VEVENT
DTSTART;TZID=America/Los_Angeles:20270508T080000
DTEND;TZID=America/Los_Angeles:20270508T090000
DTSTAMP:20260419T222805
CREATED:20251231T015946Z
LAST-MODIFIED:20260202T184617Z
UID:10009078-1809763200-1809766800@hilaryblaha.com
SUMMARY:Men’s Bible Study
DESCRIPTION:Wayne Wilson as we walk through the study of 1st Corinthians. Found in the New Testament\, the letter is written by the apostle Paul to the church in Corinth\, a city in ancient Greece. In this letter\, Paul addresses various issues and concerns within the Corinthian church\, including divisions among the believers\, immorality\, lawsuits among believers\, marriage and singleness\, spiritual gifts\, and the resurrection of the dead. Throughout the letter\, Paul emphasizes the importance of unity\, love\, and living according to the teachings of Jesus Christ. He encourages the Corinthians to live holy and righteous lives\, to use their spiritual gifts for the common good\, and to remain steadfast in their faith despite challenges and opposition. The overarching theme of 1 Corinthians is the call for believers to live in harmony with one another and to reflect the love and character of Christ in all aspects of their lives. Questions? Call Pastor Wayne Wilson at 661-269-3609  Learn More
URL:https://hilaryblaha.com/event/mens-bible-study/2027-05-08/
LOCATION:Acton Faith Bible Church
ATTACH;FMTTYPE=image/png:https://hilaryblaha.com/wp-content/uploads/2025/12/01.01-bible-and-coffee.png
END:VEVENT
BEGIN:VEVENT
DTSTART;TZID=America/Los_Angeles:20270508T190000
DTEND;TZID=America/Los_Angeles:20270508T220000
DTSTAMP:20260419T222805
CREATED:20260202T050547Z
LAST-MODIFIED:20260303T012927Z
UID:10008550-1809802800-1809813600@hilaryblaha.com
SUMMARY:Karaoke Saturdays
DESCRIPTION:The Pizza Place 7-10pm\, Family Friendly every Saturday. View Flyer
URL:https://hilaryblaha.com/event/karaoke-saturdays/2027-05-08/
LOCATION:Pizza Place\, 3942 Sierra Hwy #3\, Acton\, CA\, 93510\, United States
ATTACH;FMTTYPE=image/jpeg:https://hilaryblaha.com/wp-content/uploads/2026/02/02.07-KareokePizzaPlace.jpg
END:VEVENT
BEGIN:VEVENT
DTSTART;TZID=America/Los_Angeles:20270509T093000
DTEND;TZID=America/Los_Angeles:20270509T110000
DTSTAMP:20260419T222805
CREATED:20251104T235956Z
LAST-MODIFIED:20260303T152932Z
UID:10005252-1809855000-1809860400@hilaryblaha.com
SUMMARY:Gentle Yoga @The Clubhouse
DESCRIPTION:  \nCome join us for a gentle yoga class\, no experience necessary \nSign in at 9:30\, class starts at 10 AM Learn More \n(No class 3/1 or 3/22) \n 
URL:https://hilaryblaha.com/event/gentle-yoga-3-2-2-2-2/2027-05-09/
LOCATION:Agua Dulce Women’s Club\, 33201 Agua Dulce Canyon Road\, Agua Dulce\, CA\, United States
CATEGORIES:Agua Dulce Women’s Club
ATTACH;FMTTYPE=image/jpeg:https://hilaryblaha.com/wp-content/uploads/2023/05/gentle-yoga-2023jpg-768x768-1.jpg
END:VEVENT
BEGIN:VEVENT
DTSTART;TZID=America/Los_Angeles:20270511T100000
DTEND;TZID=America/Los_Angeles:20270511T120000
DTSTAMP:20260419T222805
CREATED:20251231T014605Z
LAST-MODIFIED:20260202T184423Z
UID:10008818-1810029600-1810036800@hilaryblaha.com
SUMMARY:Acton Women’s Club Resale Shoppe – Donation Tuesdays!
DESCRIPTION:We need your donations – Home Decor\, Art\, Clothing\, Furniture\, Toys & More. Tuesdays from 10am – 12pm\, Drop off location: 33345 Santiago Road\, Acton. Thank you for your generosity! Supporting our community one donation at a time. Learn More
URL:https://hilaryblaha.com/event/resale-shoppe-needs-your-donations/2027-05-11/
LOCATION:Resale Shoppe\, 33333 Santiago Road\, Acton\, CA\, 93510\, United States
ATTACH;FMTTYPE=image/png:https://hilaryblaha.com/wp-content/uploads/2025/12/donationtuesday_orig.png
END:VEVENT
BEGIN:VEVENT
DTSTART;TZID=America/Los_Angeles:20270515T080000
DTEND;TZID=America/Los_Angeles:20270515T090000
DTSTAMP:20260419T222805
CREATED:20251231T015946Z
LAST-MODIFIED:20260202T184617Z
UID:10009079-1810368000-1810371600@hilaryblaha.com
SUMMARY:Men’s Bible Study
DESCRIPTION:Wayne Wilson as we walk through the study of 1st Corinthians. Found in the New Testament\, the letter is written by the apostle Paul to the church in Corinth\, a city in ancient Greece. In this letter\, Paul addresses various issues and concerns within the Corinthian church\, including divisions among the believers\, immorality\, lawsuits among believers\, marriage and singleness\, spiritual gifts\, and the resurrection of the dead. Throughout the letter\, Paul emphasizes the importance of unity\, love\, and living according to the teachings of Jesus Christ. He encourages the Corinthians to live holy and righteous lives\, to use their spiritual gifts for the common good\, and to remain steadfast in their faith despite challenges and opposition. The overarching theme of 1 Corinthians is the call for believers to live in harmony with one another and to reflect the love and character of Christ in all aspects of their lives. Questions? Call Pastor Wayne Wilson at 661-269-3609  Learn More
URL:https://hilaryblaha.com/event/mens-bible-study/2027-05-15/
LOCATION:Acton Faith Bible Church
ATTACH;FMTTYPE=image/png:https://hilaryblaha.com/wp-content/uploads/2025/12/01.01-bible-and-coffee.png
END:VEVENT
BEGIN:VEVENT
DTSTART;TZID=America/Los_Angeles:20270515T190000
DTEND;TZID=America/Los_Angeles:20270515T220000
DTSTAMP:20260419T222805
CREATED:20260202T050547Z
LAST-MODIFIED:20260303T012927Z
UID:10008551-1810407600-1810418400@hilaryblaha.com
SUMMARY:Karaoke Saturdays
DESCRIPTION:The Pizza Place 7-10pm\, Family Friendly every Saturday. View Flyer
URL:https://hilaryblaha.com/event/karaoke-saturdays/2027-05-15/
LOCATION:Pizza Place\, 3942 Sierra Hwy #3\, Acton\, CA\, 93510\, United States
ATTACH;FMTTYPE=image/jpeg:https://hilaryblaha.com/wp-content/uploads/2026/02/02.07-KareokePizzaPlace.jpg
END:VEVENT
BEGIN:VEVENT
DTSTART;TZID=America/Los_Angeles:20270516T093000
DTEND;TZID=America/Los_Angeles:20270516T110000
DTSTAMP:20260419T222805
CREATED:20251104T235956Z
LAST-MODIFIED:20260303T152932Z
UID:10005253-1810459800-1810465200@hilaryblaha.com
SUMMARY:Gentle Yoga @The Clubhouse
DESCRIPTION:  \nCome join us for a gentle yoga class\, no experience necessary \nSign in at 9:30\, class starts at 10 AM Learn More \n(No class 3/1 or 3/22) \n 
URL:https://hilaryblaha.com/event/gentle-yoga-3-2-2-2-2/2027-05-16/
LOCATION:Agua Dulce Women’s Club\, 33201 Agua Dulce Canyon Road\, Agua Dulce\, CA\, United States
CATEGORIES:Agua Dulce Women’s Club
ATTACH;FMTTYPE=image/jpeg:https://hilaryblaha.com/wp-content/uploads/2023/05/gentle-yoga-2023jpg-768x768-1.jpg
END:VEVENT
BEGIN:VEVENT
DTSTART;TZID=America/Los_Angeles:20270518T100000
DTEND;TZID=America/Los_Angeles:20270518T120000
DTSTAMP:20260419T222805
CREATED:20251231T014605Z
LAST-MODIFIED:20260202T184423Z
UID:10008819-1810634400-1810641600@hilaryblaha.com
SUMMARY:Acton Women’s Club Resale Shoppe – Donation Tuesdays!
DESCRIPTION:We need your donations – Home Decor\, Art\, Clothing\, Furniture\, Toys & More. Tuesdays from 10am – 12pm\, Drop off location: 33345 Santiago Road\, Acton. Thank you for your generosity! Supporting our community one donation at a time. Learn More
URL:https://hilaryblaha.com/event/resale-shoppe-needs-your-donations/2027-05-18/
LOCATION:Resale Shoppe\, 33333 Santiago Road\, Acton\, CA\, 93510\, United States
ATTACH;FMTTYPE=image/png:https://hilaryblaha.com/wp-content/uploads/2025/12/donationtuesday_orig.png
END:VEVENT
END:VCALENDAR